BEGIN:VCALENDAR
VERSION:2.0
PRODID:-//Epoca Residents - ECPv6.10.1//NONSGML v1.0//EN
CALSCALE:GREGORIAN
METHOD:PUBLISH
X-WR-CALNAME:Epoca Residents
X-ORIGINAL-URL:https://epocaresidents.com
X-WR-CALDESC:Events for Epoca Residents
REFRESH-INTERVAL;VALUE=DURATION:PT1H
X-Robots-Tag:noindex
X-PUBLISHED-TTL:PT1H
BEGIN:VTIMEZONE
TZID:America/Los_Angeles
BEGIN:DAYLIGHT
TZOFFSETFROM:-0800
TZOFFSETTO:-0700
TZNAME:PDT
DTSTART:20240310T100000
END:DAYLIGHT
BEGIN:STANDARD
TZOFFSETFROM:-0700
TZOFFSETTO:-0800
TZNAME:PST
DTSTART:20241103T090000
END:STANDARD
END:VTIMEZONE
BEGIN:VEVENT
DTSTART;TZID=America/Los_Angeles:20240524T163000
DTEND;TZID=America/Los_Angeles:20240524T193000
DTSTAMP:20260424T133650
CREATED:20240517T161054Z
LAST-MODIFIED:20240521T160244Z
UID:10000008-1716568200-1716579000@epocaresidents.com
SUMMARY:Food Truck Friday: Zoe’s Place
DESCRIPTION:Enjoy delicious bites from Zoe’s Place food truck! Save yourself a drive to a nearby restaurant and buy dinner right here in your own community. \nDownload Flyer
URL:https://epocaresidents.com/event/food-truck-friday-zoes-place/
LOCATION:Pop-Up Plaza
CATEGORIES:food truck
ATTACH;FMTTYPE=image/png:https://epocaresidents.com/wp-content/uploads/2024/05/Zoes-Place-May-24-flyer.png
END:VEVENT
END:VCALENDAR