BEGIN:VCALENDAR
VERSION:2.0
PRODID:-//Epoca Residents - ECPv6.10.1//NONSGML v1.0//EN
CALSCALE:GREGORIAN
METHOD:PUBLISH
X-ORIGINAL-URL:https://epocaresidents.com
X-WR-CALDESC:Events for Epoca Residents
REFRESH-INTERVAL;VALUE=DURATION:PT1H
X-Robots-Tag:noindex
X-PUBLISHED-TTL:PT1H
BEGIN:VTIMEZONE
TZID:America/Los_Angeles
BEGIN:DAYLIGHT
TZOFFSETFROM:-0800
TZOFFSETTO:-0700
TZNAME:PDT
DTSTART:20240310T100000
END:DAYLIGHT
BEGIN:STANDARD
TZOFFSETFROM:-0700
TZOFFSETTO:-0800
TZNAME:PST
DTSTART:20241103T090000
END:STANDARD
END:VTIMEZONE
BEGIN:VEVENT
DTSTART;TZID=America/Los_Angeles:20240621T163000
DTEND;TZID=America/Los_Angeles:20240621T193000
DTSTAMP:20260424T122100
CREATED:20240617T193858Z
LAST-MODIFIED:20240617T193858Z
UID:10000016-1718987400-1718998200@epocaresidents.com
SUMMARY:Food Truck Friday: Dirty Birds
DESCRIPTION:Save yourself a drive to a nearby restaurant when you can buy dinner right here in your own Epoca community! Join us for delicious bites from Dirty Birds food truck located at the Epoca Pop-Up Plaza. See you then!
URL:https://epocaresidents.com/event/food-truck-friday-dirty-birds/
LOCATION:Pop-Up Plaza
CATEGORIES:food truck
ATTACH;FMTTYPE=image/jpeg:https://epocaresidents.com/wp-content/uploads/2024/06/Dirty-Birds-Flyer.jpeg
END:VEVENT
END:VCALENDAR