BEGIN:VCALENDAR
VERSION:2.0
PRODID:-//Epoca Residents - ECPv6.10.1//NONSGML v1.0//EN
CALSCALE:GREGORIAN
METHOD:PUBLISH
X-WR-CALNAME:Epoca Residents
X-ORIGINAL-URL:https://epocaresidents.com
X-WR-CALDESC:Events for Epoca Residents
REFRESH-INTERVAL;VALUE=DURATION:PT1H
X-Robots-Tag:noindex
X-PUBLISHED-TTL:PT1H
BEGIN:VTIMEZONE
TZID:America/Los_Angeles
BEGIN:DAYLIGHT
TZOFFSETFROM:-0800
TZOFFSETTO:-0700
TZNAME:PDT
DTSTART:20240310T100000
END:DAYLIGHT
BEGIN:STANDARD
TZOFFSETFROM:-0700
TZOFFSETTO:-0800
TZNAME:PST
DTSTART:20241103T090000
END:STANDARD
END:VTIMEZONE
BEGIN:VEVENT
DTSTART;TZID=America/Los_Angeles:20241206T170000
DTEND;TZID=America/Los_Angeles:20241206T190000
DTSTAMP:20260423T164536
CREATED:20241126T184342Z
LAST-MODIFIED:20241126T184342Z
UID:10000147-1733504400-1733511600@epocaresidents.com
SUMMARY:Food Truck Friday: Average Joes Burgers
DESCRIPTION:Serving up creative burgers and delicious chicken sandwiches\, Average Joes visits Epoca this Friday. Grab dinner in your own neighborhood\, entertain the family and enjoy our beautiful park setting. \nMenu
URL:https://epocaresidents.com/event/food-truck-friday-average-joes-burgers-dec-6/
LOCATION:Pop-Up Plaza
CATEGORIES:food truck
ATTACH;FMTTYPE=image/png:https://epocaresidents.com/wp-content/uploads/2024/09/Average-Joes-Burgers.png
END:VEVENT
END:VCALENDAR