BEGIN:VCALENDAR
VERSION:2.0
PRODID:-//Epoca Residents - ECPv6.10.1//NONSGML v1.0//EN
CALSCALE:GREGORIAN
METHOD:PUBLISH
X-WR-CALNAME:Epoca Residents
X-ORIGINAL-URL:https://epocaresidents.com
X-WR-CALDESC:Events for Epoca Residents
REFRESH-INTERVAL;VALUE=DURATION:PT1H
X-Robots-Tag:noindex
X-PUBLISHED-TTL:PT1H
BEGIN:VTIMEZONE
TZID:America/Los_Angeles
BEGIN:DAYLIGHT
TZOFFSETFROM:-0800
TZOFFSETTO:-0700
TZNAME:PDT
DTSTART:20250309T100000
END:DAYLIGHT
BEGIN:STANDARD
TZOFFSETFROM:-0700
TZOFFSETTO:-0800
TZNAME:PST
DTSTART:20251102T090000
END:STANDARD
END:VTIMEZONE
BEGIN:VEVENT
DTSTART;TZID=America/Los_Angeles:20250206T163000
DTEND;TZID=America/Los_Angeles:20250206T183000
DTSTAMP:20260421T121147
CREATED:20250111T001248Z
LAST-MODIFIED:20250203T213629Z
UID:10000342-1738859400-1738866600@epocaresidents.com
SUMMARY:Trivia on Tap
DESCRIPTION:Come mingle\, test your trivia skills and cheer on your neighbors at the Silo clubhouse for our first Trivia on Tap event. Beer\, seltzers and snacks will be provided. All Epoca residents are welcome.
URL:https://epocaresidents.com/event/trivia-on-tap/
LOCATION:Silo Clubhouse
CATEGORIES:special event
ATTACH;FMTTYPE=image/png:https://epocaresidents.com/wp-content/uploads/2025/01/Trivia-on-Tap-1.png
END:VEVENT
BEGIN:VEVENT
DTSTART;TZID=America/Los_Angeles:20250206T173000
DTEND;TZID=America/Los_Angeles:20250206T181500
DTSTAMP:20260421T121147
CREATED:20250114T180753Z
LAST-MODIFIED:20250430T233413Z
UID:10000353-1738863000-1738865700@epocaresidents.com
SUMMARY:Fitness Fusion
DESCRIPTION:Join us for Fitness Fusion—a free resident workout led by DataFit in the Ironwood Gym! Meet neighbors\, boost your mood\, and get fit with circuit-style training using gym equipment.
URL:https://epocaresidents.com/event/fitness-fusion-thursdays/2025-02-06/
LOCATION:Ironwood Gym
CATEGORIES:fitness
ATTACH;FMTTYPE=image/png:https://epocaresidents.com/wp-content/uploads/2025/01/epocaresidents.com-events-3.png
END:VEVENT
END:VCALENDAR