BEGIN:VCALENDAR
VERSION:2.0
PRODID:-//Epoca Residents - ECPv6.10.1//NONSGML v1.0//EN
CALSCALE:GREGORIAN
METHOD:PUBLISH
X-ORIGINAL-URL:https://epocaresidents.com
X-WR-CALDESC:Events for Epoca Residents
REFRESH-INTERVAL;VALUE=DURATION:PT1H
X-Robots-Tag:noindex
X-PUBLISHED-TTL:PT1H
BEGIN:VTIMEZONE
TZID:America/Los_Angeles
BEGIN:DAYLIGHT
TZOFFSETFROM:-0800
TZOFFSETTO:-0700
TZNAME:PDT
DTSTART:20250309T100000
END:DAYLIGHT
BEGIN:STANDARD
TZOFFSETFROM:-0700
TZOFFSETTO:-0800
TZNAME:PST
DTSTART:20251102T090000
END:STANDARD
END:VTIMEZONE
BEGIN:VEVENT
DTSTART;TZID=America/Los_Angeles:20250425T170000
DTEND;TZID=America/Los_Angeles:20250425T190000
DTSTAMP:20260421T091006
CREATED:20250225T015608Z
LAST-MODIFIED:20250225T015608Z
UID:10000393-1745600400-1745607600@epocaresidents.com
SUMMARY:Food Truck Friday: El Guero 2
DESCRIPTION:Come on out for creative cuisine from El Guero 2. Enjoy fresh Mexican favorites from tasty tacos to spicy seafood\, relax in our beautiful park and meet your neighbors.
URL:https://epocaresidents.com/event/food-truck-friday-el-guero-2-apr-25/
LOCATION:Pop-Up Plaza
CATEGORIES:food truck
ATTACH;FMTTYPE=image/png:https://epocaresidents.com/wp-content/uploads/2024/11/El-Guero-2.png
END:VEVENT
END:VCALENDAR