BEGIN:VCALENDAR
VERSION:2.0
PRODID:-//Epoca Residents - ECPv6.10.1//NONSGML v1.0//EN
CALSCALE:GREGORIAN
METHOD:PUBLISH
X-WR-CALNAME:Epoca Residents
X-ORIGINAL-URL:https://epocaresidents.com
X-WR-CALDESC:Events for Epoca Residents
REFRESH-INTERVAL;VALUE=DURATION:PT1H
X-Robots-Tag:noindex
X-PUBLISHED-TTL:PT1H
BEGIN:VTIMEZONE
TZID:America/Los_Angeles
BEGIN:DAYLIGHT
TZOFFSETFROM:-0800
TZOFFSETTO:-0700
TZNAME:PDT
DTSTART:20250309T100000
END:DAYLIGHT
BEGIN:STANDARD
TZOFFSETFROM:-0700
TZOFFSETTO:-0800
TZNAME:PST
DTSTART:20251102T090000
END:STANDARD
END:VTIMEZONE
BEGIN:VEVENT
DTSTART;TZID=America/Los_Angeles:20250912T170000
DTEND;TZID=America/Los_Angeles:20250912T190000
DTSTAMP:20260421T014557
CREATED:20250908T231248Z
LAST-MODIFIED:20250908T231306Z
UID:10000454-1757696400-1757703600@epocaresidents.com
SUMMARY:Butcher Paper Food Truck
DESCRIPTION:Butcher Paper is serving up premium sandwiches and burgers at Epoca! Stop by the Pop-Up Park to enjoy delicious eats and laid-back park vibes.
URL:https://epocaresidents.com/event/butcher-paper-food-truck-copy-copy/
LOCATION:Pop-Up Plaza
CATEGORIES:food truck
ATTACH;FMTTYPE=image/png:https://epocaresidents.com/wp-content/uploads/2025/04/epocaresidents.com-events-8.png
END:VEVENT
END:VCALENDAR