BEGIN:VCALENDAR
VERSION:2.0
PRODID:-//Epoca Residents - ECPv6.10.1//NONSGML v1.0//EN
CALSCALE:GREGORIAN
METHOD:PUBLISH
X-WR-CALNAME:Epoca Residents
X-ORIGINAL-URL:https://epocaresidents.com
X-WR-CALDESC:Events for Epoca Residents
REFRESH-INTERVAL;VALUE=DURATION:PT1H
X-Robots-Tag:noindex
X-PUBLISHED-TTL:PT1H
BEGIN:VTIMEZONE
TZID:America/Los_Angeles
BEGIN:DAYLIGHT
TZOFFSETFROM:-0800
TZOFFSETTO:-0700
TZNAME:PDT
DTSTART:20250309T100000
END:DAYLIGHT
BEGIN:STANDARD
TZOFFSETFROM:-0700
TZOFFSETTO:-0800
TZNAME:PST
DTSTART:20251102T090000
END:STANDARD
END:VTIMEZONE
BEGIN:VEVENT
DTSTART;TZID=America/Los_Angeles:20250919T170000
DTEND;TZID=America/Los_Angeles:20250919T190000
DTSTAMP:20260421T014524
CREATED:20250815T174354Z
LAST-MODIFIED:20250815T174354Z
UID:10000449-1758301200-1758308400@epocaresidents.com
SUMMARY:Born in Brooklyn Food Truck
DESCRIPTION:Born in Brooklyn is pullin’ up at Epoca! Swing by the Pop-Up Plaza for tasty eats\, chill vibes\, and a touch of Brooklyn flavor—right here in San Diego!
URL:https://epocaresidents.com/event/born-in-brooklyn-food-truck-2/
LOCATION:Pop-Up Plaza
ATTACH;FMTTYPE=image/png:https://epocaresidents.com/wp-content/uploads/2025/04/epocaresidents.com-events-7.png
END:VEVENT
END:VCALENDAR