BEGIN:VCALENDAR
VERSION:2.0
PRODID:-//Epoca Residents - ECPv6.10.1//NONSGML v1.0//EN
CALSCALE:GREGORIAN
METHOD:PUBLISH
X-WR-CALNAME:Epoca Residents
X-ORIGINAL-URL:https://epocaresidents.com
X-WR-CALDESC:Events for Epoca Residents
REFRESH-INTERVAL;VALUE=DURATION:PT1H
X-Robots-Tag:noindex
X-PUBLISHED-TTL:PT1H
BEGIN:VTIMEZONE
TZID:America/Los_Angeles
BEGIN:DAYLIGHT
TZOFFSETFROM:-0800
TZOFFSETTO:-0700
TZNAME:PDT
DTSTART:20250309T100000
END:DAYLIGHT
BEGIN:STANDARD
TZOFFSETFROM:-0700
TZOFFSETTO:-0800
TZNAME:PST
DTSTART:20251102T090000
END:STANDARD
END:VTIMEZONE
BEGIN:VEVENT
DTSTART;TZID=America/Los_Angeles:20250927T090000
DTEND;TZID=America/Los_Angeles:20250927T110000
DTSTAMP:20260421T014525
CREATED:20250717T201910Z
LAST-MODIFIED:20250804T171753Z
UID:10000439-1758963600-1758970800@epocaresidents.com
SUMMARY:Resident Market
DESCRIPTION:Join us at the Pop-up Plaza for a fantastic opportunity to sell your items or services to your neighbors! Sign up to showcase or promote anything you’d like\, whether it’s homemade crafts\, garage sale items from your home\, kids’ lemonade stands\, or any fun offerings you can think of. Epoca will provide a tent and table to help you display your goods or services\, no business ownership required! If you’re not hosting a tent\, come by to browse and support your neighbors’ unique items and services.
URL:https://epocaresidents.com/event/community-garage-sale/
CATEGORIES:special event
ATTACH;FMTTYPE=image/png:https://epocaresidents.com/wp-content/uploads/2025/07/epocaresidents.com-events-25.png
END:VEVENT
END:VCALENDAR