BEGIN:VCALENDAR
VERSION:2.0
PRODID:-//Epoca Residents - ECPv6.10.1//NONSGML v1.0//EN
CALSCALE:GREGORIAN
METHOD:PUBLISH
X-WR-CALNAME:Epoca Residents
X-ORIGINAL-URL:https://epocaresidents.com
X-WR-CALDESC:Events for Epoca Residents
REFRESH-INTERVAL;VALUE=DURATION:PT1H
X-Robots-Tag:noindex
X-PUBLISHED-TTL:PT1H
BEGIN:VTIMEZONE
TZID:America/Los_Angeles
BEGIN:DAYLIGHT
TZOFFSETFROM:-0800
TZOFFSETTO:-0700
TZNAME:PDT
DTSTART:20260308T100000
END:DAYLIGHT
BEGIN:STANDARD
TZOFFSETFROM:-0700
TZOFFSETTO:-0800
TZNAME:PST
DTSTART:20261101T090000
END:STANDARD
END:VTIMEZONE
BEGIN:VEVENT
DTSTART;VALUE=DATE:20260829
DTEND;VALUE=DATE:20260830
DTSTAMP:20260421T073802
CREATED:20251022T184931Z
LAST-MODIFIED:20251216T190135Z
UID:10000480-1787961600-1788047999@epocaresidents.com
SUMMARY:Concert in the Park
DESCRIPTION:Save the date for an Epoca’s 3rd annual Concert in the Park! More details coming soon!
URL:https://epocaresidents.com/event/epoca-special-event-6/
LOCATION:Pop-Up Park
CATEGORIES:special event
ATTACH;FMTTYPE=image/png:https://epocaresidents.com/wp-content/uploads/2025/10/Resident-E-Blast-Photo-50.png
END:VEVENT
END:VCALENDAR