BEGIN:VCALENDAR
VERSION:2.0
PRODID:-//Epoca Residents - ECPv6.10.1//NONSGML v1.0//EN
CALSCALE:GREGORIAN
METHOD:PUBLISH
X-ORIGINAL-URL:https://epocaresidents.com
X-WR-CALDESC:Events for Epoca Residents
REFRESH-INTERVAL;VALUE=DURATION:PT1H
X-Robots-Tag:noindex
X-PUBLISHED-TTL:PT1H
BEGIN:VTIMEZONE
TZID:America/Los_Angeles
BEGIN:DAYLIGHT
TZOFFSETFROM:-0800
TZOFFSETTO:-0700
TZNAME:PDT
DTSTART:20250309T100000
END:DAYLIGHT
BEGIN:STANDARD
TZOFFSETFROM:-0700
TZOFFSETTO:-0800
TZNAME:PST
DTSTART:20251102T090000
END:STANDARD
END:VTIMEZONE
BEGIN:VEVENT
DTSTART;TZID=America/Los_Angeles:20251028T173000
DTEND;TZID=America/Los_Angeles:20251028T181500
DTSTAMP:20260420T171408
CREATED:20250919T190032Z
LAST-MODIFIED:20251022T152911Z
UID:10000462-1761672600-1761675300@epocaresidents.com
SUMMARY:Yoga in the Park
DESCRIPTION:Final Yoga in the Park of the season! \nStretch\, breathe\, and unwind at Yoga in the Park—every Tuesday at the Pop-Up Park with DataFit! Open to all ages. Please bring your own mat.
URL:https://epocaresidents.com/event/yoga-in-the-park-11/
LOCATION:Pop-Up Park
CATEGORIES:fitness,yoga
ATTACH;FMTTYPE=image/png:https://epocaresidents.com/wp-content/uploads/2025/09/Resident-E-Blast-Photo-29.png
END:VEVENT
BEGIN:VEVENT
DTSTART;TZID=America/Los_Angeles:20251021T173000
DTEND;TZID=America/Los_Angeles:20251021T181500
DTSTAMP:20260420T171408
CREATED:20250919T190019Z
LAST-MODIFIED:20251022T152835Z
UID:10000461-1761067800-1761070500@epocaresidents.com
SUMMARY:Yoga in the Park
DESCRIPTION:Stretch\, breathe\, and unwind at Yoga in the Park—every Tuesday at the Pop-Up Park with DataFit! Open to all ages. Please bring your own mat.
URL:https://epocaresidents.com/event/yoga-in-the-park-10/
LOCATION:Pop-Up Park
CATEGORIES:fitness,yoga
ATTACH;FMTTYPE=image/png:https://epocaresidents.com/wp-content/uploads/2025/09/Resident-E-Blast-Photo-29.png
END:VEVENT
BEGIN:VEVENT
DTSTART;TZID=America/Los_Angeles:20251014T173000
DTEND;TZID=America/Los_Angeles:20251014T181500
DTSTAMP:20260420T171408
CREATED:20250919T190006Z
LAST-MODIFIED:20250929T190749Z
UID:10000460-1760463000-1760465700@epocaresidents.com
SUMMARY:Yoga in the Park
DESCRIPTION:Stretch\, breathe\, and unwind at Yoga in the Park—every Tuesday at the Pop-Up Park with DataFit! Open to all ages. Please bring your own mat.
URL:https://epocaresidents.com/event/yoga-in-the-park-9/
LOCATION:Pop-Up Park
CATEGORIES:fitness,yoga
ATTACH;FMTTYPE=image/png:https://epocaresidents.com/wp-content/uploads/2025/09/Resident-E-Blast-Photo-20.png
END:VEVENT
BEGIN:VEVENT
DTSTART;TZID=America/Los_Angeles:20251007T173000
DTEND;TZID=America/Los_Angeles:20251007T181500
DTSTAMP:20260420T171408
CREATED:20250919T185953Z
LAST-MODIFIED:20250929T191029Z
UID:10000459-1759858200-1759860900@epocaresidents.com
SUMMARY:Yoga in the Park
DESCRIPTION:Stretch\, breathe\, and unwind at Yoga in the Park—every Tuesday at the Pop-Up Park with DataFit! Open to all ages. Please bring your own mat.
URL:https://epocaresidents.com/event/yoga-in-the-park-8/
LOCATION:Pop-Up Park
CATEGORIES:fitness,yoga
ATTACH;FMTTYPE=image/png:https://epocaresidents.com/wp-content/uploads/2025/09/Resident-E-Blast-Photo-20.png
END:VEVENT
BEGIN:VEVENT
DTSTART;TZID=America/Los_Angeles:20250930T173000
DTEND;TZID=America/Los_Angeles:20250930T181500
DTSTAMP:20260420T171408
CREATED:20250919T185718Z
LAST-MODIFIED:20250929T191052Z
UID:10000458-1759253400-1759256100@epocaresidents.com
SUMMARY:Yoga in the Park
DESCRIPTION:Stretch\, breathe\, and unwind at Yoga in the Park—every Tuesday at the Pop-Up Park with DataFit! Open to all ages. Please bring your own mat.
URL:https://epocaresidents.com/event/yoga-in-the-park-7/
LOCATION:Pop-Up Park
CATEGORIES:fitness,yoga
ATTACH;FMTTYPE=image/png:https://epocaresidents.com/wp-content/uploads/2025/09/Resident-E-Blast-Photo-20.png
END:VEVENT
BEGIN:VEVENT
DTSTART;TZID=America/Los_Angeles:20250923T173000
DTEND;TZID=America/Los_Angeles:20250923T181500
DTSTAMP:20260420T171408
CREATED:20250919T185637Z
LAST-MODIFIED:20250919T185637Z
UID:10000457-1758648600-1758651300@epocaresidents.com
SUMMARY:Yoga in the Park
DESCRIPTION:Stretch\, breathe\, and unwind at Yoga in the Park—every Tuesday at the Pop-Up Park with DataFit! Open to all ages. Please bring your own mat.
URL:https://epocaresidents.com/event/yoga-in-the-park-6/
LOCATION:Pop-Up Park
CATEGORIES:fitness,yoga
ATTACH;FMTTYPE=image/png:https://epocaresidents.com/wp-content/uploads/2025/04/epocaresidents.com-events-5.png
END:VEVENT
BEGIN:VEVENT
DTSTART;TZID=America/Los_Angeles:20250916T173000
DTEND;TZID=America/Los_Angeles:20250916T181500
DTSTAMP:20260420T171408
CREATED:20250815T174549Z
LAST-MODIFIED:20250815T175349Z
UID:10000452-1758043800-1758046500@epocaresidents.com
SUMMARY:Yoga in the Park
DESCRIPTION:Stretch\, breathe\, and unwind at Yoga in the Park—every Tuesday at the Pop-Up Park with DataFit! Open to all ages. Please bring your own mat.
URL:https://epocaresidents.com/event/yoga-in-the-park-5/
LOCATION:Pop-Up Park
CATEGORIES:fitness,yoga
ATTACH;FMTTYPE=image/png:https://epocaresidents.com/wp-content/uploads/2025/04/epocaresidents.com-events-5.png
END:VEVENT
BEGIN:VEVENT
DTSTART;TZID=America/Los_Angeles:20250909T173000
DTEND;TZID=America/Los_Angeles:20250909T181500
DTSTAMP:20260420T171408
CREATED:20250815T174528Z
LAST-MODIFIED:20250815T174528Z
UID:10000451-1757439000-1757441700@epocaresidents.com
SUMMARY:Yoga in the Park
DESCRIPTION:Stretch\, breathe\, and unwind at Yoga in the Park—every Tuesday at the Pop-Up Park with DataFit! Open to all ages. Please bring your own mat.
URL:https://epocaresidents.com/event/yoga-in-the-park-4/
LOCATION:Pop-Up Park
CATEGORIES:fitness,yoga
ATTACH;FMTTYPE=image/png:https://epocaresidents.com/wp-content/uploads/2025/04/epocaresidents.com-events-5.png
END:VEVENT
BEGIN:VEVENT
DTSTART;TZID=America/Los_Angeles:20250902T173000
DTEND;TZID=America/Los_Angeles:20250902T181500
DTSTAMP:20260420T171408
CREATED:20250815T174502Z
LAST-MODIFIED:20250815T174502Z
UID:10000450-1756834200-1756836900@epocaresidents.com
SUMMARY:Yoga in the Park
DESCRIPTION:Stretch\, breathe\, and unwind at Yoga in the Park—every Tuesday at the Pop-Up Park with DataFit! Open to all ages. Please bring your own mat.
URL:https://epocaresidents.com/event/yoga-in-the-park-3/
LOCATION:Pop-Up Park
CATEGORIES:fitness,yoga
ATTACH;FMTTYPE=image/png:https://epocaresidents.com/wp-content/uploads/2025/04/epocaresidents.com-events-5.png
END:VEVENT
BEGIN:VEVENT
DTSTART;TZID=America/Los_Angeles:20250826T173000
DTEND;TZID=America/Los_Angeles:20250826T181500
DTSTAMP:20260420T171408
CREATED:20250717T185708Z
LAST-MODIFIED:20250717T185838Z
UID:10000435-1756229400-1756232100@epocaresidents.com
SUMMARY:Yoga in the Park
DESCRIPTION:Stretch\, breathe\, and unwind at Yoga in the Park—every Tuesday at the Pop-Up Park with DataFit! Open to all ages. Please bring your own mat.
URL:https://epocaresidents.com/event/yoga-in-the-park-2-copy-copy-copy-copy-copy-3/
LOCATION:Pop-Up Park
CATEGORIES:fitness,yoga
ATTACH;FMTTYPE=image/png:https://epocaresidents.com/wp-content/uploads/2025/04/epocaresidents.com-events-5.png
END:VEVENT
BEGIN:VEVENT
DTSTART;TZID=America/Los_Angeles:20250819T173000
DTEND;TZID=America/Los_Angeles:20250819T181500
DTSTAMP:20260420T171408
CREATED:20250717T185705Z
LAST-MODIFIED:20250717T185826Z
UID:10000434-1755624600-1755627300@epocaresidents.com
SUMMARY:Yoga in the Park
DESCRIPTION:Stretch\, breathe\, and unwind at Yoga in the Park—every Tuesday at the Pop-Up Park with DataFit! Open to all ages. Please bring your own mat.
URL:https://epocaresidents.com/event/yoga-in-the-park-2-copy-copy-copy-copy-copy-copy/
LOCATION:Pop-Up Park
CATEGORIES:fitness,yoga
ATTACH;FMTTYPE=image/png:https://epocaresidents.com/wp-content/uploads/2025/04/epocaresidents.com-events-5.png
END:VEVENT
BEGIN:VEVENT
DTSTART;TZID=America/Los_Angeles:20250812T173000
DTEND;TZID=America/Los_Angeles:20250812T181500
DTSTAMP:20260420T171408
CREATED:20250717T185510Z
LAST-MODIFIED:20250717T185755Z
UID:10000431-1755019800-1755022500@epocaresidents.com
SUMMARY:Yoga in the Park
DESCRIPTION:Stretch\, breathe\, and unwind at Yoga in the Park—every Tuesday at the Pop-Up Park with DataFit! Open to all ages. Please bring your own mat.
URL:https://epocaresidents.com/event/yoga-in-the-park-2-copy-copy-copy/
LOCATION:Pop-Up Park
CATEGORIES:fitness,yoga
ATTACH;FMTTYPE=image/png:https://epocaresidents.com/wp-content/uploads/2025/04/epocaresidents.com-events-5.png
END:VEVENT
BEGIN:VEVENT
DTSTART;TZID=America/Los_Angeles:20250805T173000
DTEND;TZID=America/Los_Angeles:20250805T181500
DTSTAMP:20260420T171408
CREATED:20250717T185700Z
LAST-MODIFIED:20250717T185729Z
UID:10000432-1754415000-1754417700@epocaresidents.com
SUMMARY:Yoga in the Park
DESCRIPTION:Stretch\, breathe\, and unwind at Yoga in the Park—every Tuesday at the Pop-Up Park with DataFit! Open to all ages. Please bring your own mat.
URL:https://epocaresidents.com/event/yoga-in-the-park-2-copy-copy-copy-copy/
LOCATION:Pop-Up Park
CATEGORIES:fitness,yoga
ATTACH;FMTTYPE=image/png:https://epocaresidents.com/wp-content/uploads/2025/04/epocaresidents.com-events-5.png
END:VEVENT
BEGIN:VEVENT
DTSTART;TZID=America/Los_Angeles:20250722T173000
DTEND;TZID=America/Los_Angeles:20250722T181500
DTSTAMP:20260420T171408
CREATED:20250717T185446Z
LAST-MODIFIED:20250717T185553Z
UID:10000430-1753205400-1753208100@epocaresidents.com
SUMMARY:Yoga in the Park
DESCRIPTION:Stretch\, breathe\, and unwind at Yoga in the Park—every Tuesday at the Pop-Up Park with DataFit! Open to all ages. Please bring your own mat.
URL:https://epocaresidents.com/event/yoga-in-the-park-2-copy-copy/
LOCATION:Pop-Up Park
CATEGORIES:fitness,yoga
ATTACH;FMTTYPE=image/png:https://epocaresidents.com/wp-content/uploads/2025/04/epocaresidents.com-events-5.png
END:VEVENT
BEGIN:VEVENT
DTSTART;TZID=America/Los_Angeles:20250715T173000
DTEND;TZID=America/Los_Angeles:20250715T181500
DTSTAMP:20260420T171408
CREATED:20250717T185246Z
LAST-MODIFIED:20250717T185601Z
UID:10000429-1752600600-1752603300@epocaresidents.com
SUMMARY:Yoga in the Park
DESCRIPTION:Stretch\, breathe\, and unwind at Yoga in the Park—every Tuesday at the Pop-Up Park with DataFit! Open to all ages. Please bring your own mat.
URL:https://epocaresidents.com/event/yoga-in-the-park-2-copy/
LOCATION:Pop-Up Park
CATEGORIES:fitness,yoga
ATTACH;FMTTYPE=image/png:https://epocaresidents.com/wp-content/uploads/2025/04/epocaresidents.com-events-5.png
END:VEVENT
BEGIN:VEVENT
DTSTART;TZID=America/Los_Angeles:20250708T173000
DTEND;TZID=America/Los_Angeles:20250708T181500
DTSTAMP:20260420T171408
CREATED:20250715T000546Z
LAST-MODIFIED:20250717T185352Z
UID:10000418-1751995800-1751998500@epocaresidents.com
SUMMARY:Yoga in the Park
DESCRIPTION:Stretch\, breathe\, and unwind at Yoga in the Park—every Tuesday at the Pop-Up Park with DataFit! Open to all ages. Please bring your own mat.
URL:https://epocaresidents.com/event/yoga-in-the-park-2/
LOCATION:Pop-Up Park
CATEGORIES:fitness,yoga
ATTACH;FMTTYPE=image/png:https://epocaresidents.com/wp-content/uploads/2025/04/epocaresidents.com-events-5.png
END:VEVENT
BEGIN:VEVENT
DTSTART;TZID=America/Los_Angeles:20250610T173000
DTEND;TZID=America/Los_Angeles:20250610T181500
DTSTAMP:20260420T171408
CREATED:20250430T234037Z
LAST-MODIFIED:20250430T234037Z
UID:10000416-1749576600-1749579300@epocaresidents.com
SUMMARY:Yoga in the Park
DESCRIPTION:Stretch\, breathe\, and unwind at Yoga in the Park—every Tuesday at the Pop-Up Park with DataFit! Open to all ages. Please bring your own mat.
URL:https://epocaresidents.com/event/yoga-in-the-park/2025-06-10/
LOCATION:Pop-Up Park
CATEGORIES:fitness,yoga
ATTACH;FMTTYPE=image/png:https://epocaresidents.com/wp-content/uploads/2025/04/epocaresidents.com-events-5.png
END:VEVENT
BEGIN:VEVENT
DTSTART;TZID=America/Los_Angeles:20250603T173000
DTEND;TZID=America/Los_Angeles:20250603T181500
DTSTAMP:20260420T171408
CREATED:20250430T234037Z
LAST-MODIFIED:20250430T234037Z
UID:10000415-1748971800-1748974500@epocaresidents.com
SUMMARY:Yoga in the Park
DESCRIPTION:Stretch\, breathe\, and unwind at Yoga in the Park—every Tuesday at the Pop-Up Park with DataFit! Open to all ages. Please bring your own mat.
URL:https://epocaresidents.com/event/yoga-in-the-park/2025-06-03/
LOCATION:Pop-Up Park
CATEGORIES:fitness,yoga
ATTACH;FMTTYPE=image/png:https://epocaresidents.com/wp-content/uploads/2025/04/epocaresidents.com-events-5.png
END:VEVENT
BEGIN:VEVENT
DTSTART;TZID=America/Los_Angeles:20250529T173000
DTEND;TZID=America/Los_Angeles:20250529T181500
DTSTAMP:20260420T171408
CREATED:20250114T180753Z
LAST-MODIFIED:20250430T233413Z
UID:10000413-1748539800-1748542500@epocaresidents.com
SUMMARY:Fitness Fusion
DESCRIPTION:Join us for Fitness Fusion—a free resident workout led by DataFit in the Ironwood Gym! Meet neighbors\, boost your mood\, and get fit with circuit-style training using gym equipment.
URL:https://epocaresidents.com/event/fitness-fusion-thursdays/2025-05-29/
LOCATION:Ironwood Gym
CATEGORIES:fitness
ATTACH;FMTTYPE=image/png:https://epocaresidents.com/wp-content/uploads/2025/01/epocaresidents.com-events-3.png
END:VEVENT
BEGIN:VEVENT
DTSTART;TZID=America/Los_Angeles:20250527T173000
DTEND;TZID=America/Los_Angeles:20250527T181500
DTSTAMP:20260420T171408
CREATED:20250114T180433Z
LAST-MODIFIED:20250430T233351Z
UID:10000403-1748367000-1748369700@epocaresidents.com
SUMMARY:Fitness Fusion
DESCRIPTION:Join us for Fitness Fusion—a free resident workout led by DataFit in the Mason Gym! Meet neighbors\, boost your mood\, and get fit with circuit-style training using gym equipment.
URL:https://epocaresidents.com/event/fitness-fusion-tuesdays/2025-05-27/
LOCATION:Mason Gym
CATEGORIES:fitness
ATTACH;FMTTYPE=image/png:https://epocaresidents.com/wp-content/uploads/2025/01/epocaresidents.com-events-2.png
END:VEVENT
BEGIN:VEVENT
DTSTART;TZID=America/Los_Angeles:20250522T173000
DTEND;TZID=America/Los_Angeles:20250522T181500
DTSTAMP:20260420T171408
CREATED:20250114T180753Z
LAST-MODIFIED:20250430T233413Z
UID:10000412-1747935000-1747937700@epocaresidents.com
SUMMARY:Fitness Fusion
DESCRIPTION:Join us for Fitness Fusion—a free resident workout led by DataFit in the Ironwood Gym! Meet neighbors\, boost your mood\, and get fit with circuit-style training using gym equipment.
URL:https://epocaresidents.com/event/fitness-fusion-thursdays/2025-05-22/
LOCATION:Ironwood Gym
CATEGORIES:fitness
ATTACH;FMTTYPE=image/png:https://epocaresidents.com/wp-content/uploads/2025/01/epocaresidents.com-events-3.png
END:VEVENT
BEGIN:VEVENT
DTSTART;TZID=America/Los_Angeles:20250520T173000
DTEND;TZID=America/Los_Angeles:20250520T181500
DTSTAMP:20260420T171408
CREATED:20250114T180433Z
LAST-MODIFIED:20250430T233351Z
UID:10000402-1747762200-1747764900@epocaresidents.com
SUMMARY:Fitness Fusion
DESCRIPTION:Join us for Fitness Fusion—a free resident workout led by DataFit in the Mason Gym! Meet neighbors\, boost your mood\, and get fit with circuit-style training using gym equipment.
URL:https://epocaresidents.com/event/fitness-fusion-tuesdays/2025-05-20/
LOCATION:Mason Gym
CATEGORIES:fitness
ATTACH;FMTTYPE=image/png:https://epocaresidents.com/wp-content/uploads/2025/01/epocaresidents.com-events-2.png
END:VEVENT
BEGIN:VEVENT
DTSTART;TZID=America/Los_Angeles:20250515T173000
DTEND;TZID=America/Los_Angeles:20250515T181500
DTSTAMP:20260420T171408
CREATED:20250114T180753Z
LAST-MODIFIED:20250430T233413Z
UID:10000411-1747330200-1747332900@epocaresidents.com
SUMMARY:Fitness Fusion
DESCRIPTION:Join us for Fitness Fusion—a free resident workout led by DataFit in the Ironwood Gym! Meet neighbors\, boost your mood\, and get fit with circuit-style training using gym equipment.
URL:https://epocaresidents.com/event/fitness-fusion-thursdays/2025-05-15/
LOCATION:Ironwood Gym
CATEGORIES:fitness
ATTACH;FMTTYPE=image/png:https://epocaresidents.com/wp-content/uploads/2025/01/epocaresidents.com-events-3.png
END:VEVENT
BEGIN:VEVENT
DTSTART;TZID=America/Los_Angeles:20250513T173000
DTEND;TZID=America/Los_Angeles:20250513T181500
DTSTAMP:20260420T171408
CREATED:20250114T180433Z
LAST-MODIFIED:20250430T233351Z
UID:10000401-1747157400-1747160100@epocaresidents.com
SUMMARY:Fitness Fusion
DESCRIPTION:Join us for Fitness Fusion—a free resident workout led by DataFit in the Mason Gym! Meet neighbors\, boost your mood\, and get fit with circuit-style training using gym equipment.
URL:https://epocaresidents.com/event/fitness-fusion-tuesdays/2025-05-13/
LOCATION:Mason Gym
CATEGORIES:fitness
ATTACH;FMTTYPE=image/png:https://epocaresidents.com/wp-content/uploads/2025/01/epocaresidents.com-events-2.png
END:VEVENT
BEGIN:VEVENT
DTSTART;TZID=America/Los_Angeles:20250508T173000
DTEND;TZID=America/Los_Angeles:20250508T181500
DTSTAMP:20260420T171408
CREATED:20250114T180753Z
LAST-MODIFIED:20250430T233413Z
UID:10000410-1746725400-1746728100@epocaresidents.com
SUMMARY:Fitness Fusion
DESCRIPTION:Join us for Fitness Fusion—a free resident workout led by DataFit in the Ironwood Gym! Meet neighbors\, boost your mood\, and get fit with circuit-style training using gym equipment.
URL:https://epocaresidents.com/event/fitness-fusion-thursdays/2025-05-08/
LOCATION:Ironwood Gym
CATEGORIES:fitness
ATTACH;FMTTYPE=image/png:https://epocaresidents.com/wp-content/uploads/2025/01/epocaresidents.com-events-3.png
END:VEVENT
BEGIN:VEVENT
DTSTART;TZID=America/Los_Angeles:20250506T173000
DTEND;TZID=America/Los_Angeles:20250506T181500
DTSTAMP:20260420T171408
CREATED:20250114T180433Z
LAST-MODIFIED:20250430T233351Z
UID:10000400-1746552600-1746555300@epocaresidents.com
SUMMARY:Fitness Fusion
DESCRIPTION:Join us for Fitness Fusion—a free resident workout led by DataFit in the Mason Gym! Meet neighbors\, boost your mood\, and get fit with circuit-style training using gym equipment.
URL:https://epocaresidents.com/event/fitness-fusion-tuesdays/2025-05-06/
LOCATION:Mason Gym
CATEGORIES:fitness
ATTACH;FMTTYPE=image/png:https://epocaresidents.com/wp-content/uploads/2025/01/epocaresidents.com-events-2.png
END:VEVENT
BEGIN:VEVENT
DTSTART;TZID=America/Los_Angeles:20250501T173000
DTEND;TZID=America/Los_Angeles:20250501T181500
DTSTAMP:20260420T171408
CREATED:20250114T180753Z
LAST-MODIFIED:20250430T233413Z
UID:10000409-1746120600-1746123300@epocaresidents.com
SUMMARY:Fitness Fusion
DESCRIPTION:Join us for Fitness Fusion—a free resident workout led by DataFit in the Ironwood Gym! Meet neighbors\, boost your mood\, and get fit with circuit-style training using gym equipment.
URL:https://epocaresidents.com/event/fitness-fusion-thursdays/2025-05-01/
LOCATION:Ironwood Gym
CATEGORIES:fitness
ATTACH;FMTTYPE=image/png:https://epocaresidents.com/wp-content/uploads/2025/01/epocaresidents.com-events-3.png
END:VEVENT
BEGIN:VEVENT
DTSTART;TZID=America/Los_Angeles:20250429T173000
DTEND;TZID=America/Los_Angeles:20250429T181500
DTSTAMP:20260420T171408
CREATED:20250114T180433Z
LAST-MODIFIED:20250430T233351Z
UID:10000399-1745947800-1745950500@epocaresidents.com
SUMMARY:Fitness Fusion
DESCRIPTION:Join us for Fitness Fusion—a free resident workout led by DataFit in the Mason Gym! Meet neighbors\, boost your mood\, and get fit with circuit-style training using gym equipment.
URL:https://epocaresidents.com/event/fitness-fusion-tuesdays/2025-04-29/
LOCATION:Mason Gym
CATEGORIES:fitness
ATTACH;FMTTYPE=image/png:https://epocaresidents.com/wp-content/uploads/2025/01/epocaresidents.com-events-2.png
END:VEVENT
BEGIN:VEVENT
DTSTART;TZID=America/Los_Angeles:20250424T173000
DTEND;TZID=America/Los_Angeles:20250424T181500
DTSTAMP:20260420T171408
CREATED:20250114T180753Z
LAST-MODIFIED:20250430T233413Z
UID:10000408-1745515800-1745518500@epocaresidents.com
SUMMARY:Fitness Fusion
DESCRIPTION:Join us for Fitness Fusion—a free resident workout led by DataFit in the Ironwood Gym! Meet neighbors\, boost your mood\, and get fit with circuit-style training using gym equipment.
URL:https://epocaresidents.com/event/fitness-fusion-thursdays/2025-04-24/
LOCATION:Ironwood Gym
CATEGORIES:fitness
ATTACH;FMTTYPE=image/png:https://epocaresidents.com/wp-content/uploads/2025/01/epocaresidents.com-events-3.png
END:VEVENT
BEGIN:VEVENT
DTSTART;TZID=America/Los_Angeles:20250422T173000
DTEND;TZID=America/Los_Angeles:20250422T181500
DTSTAMP:20260420T171408
CREATED:20250114T180433Z
LAST-MODIFIED:20250430T233351Z
UID:10000398-1745343000-1745345700@epocaresidents.com
SUMMARY:Fitness Fusion
DESCRIPTION:Join us for Fitness Fusion—a free resident workout led by DataFit in the Mason Gym! Meet neighbors\, boost your mood\, and get fit with circuit-style training using gym equipment.
URL:https://epocaresidents.com/event/fitness-fusion-tuesdays/2025-04-22/
LOCATION:Mason Gym
CATEGORIES:fitness
ATTACH;FMTTYPE=image/png:https://epocaresidents.com/wp-content/uploads/2025/01/epocaresidents.com-events-2.png
END:VEVENT
END:VCALENDAR