BEGIN:VCALENDAR
VERSION:2.0
PRODID:-//Epoca Residents - ECPv6.10.1//NONSGML v1.0//EN
CALSCALE:GREGORIAN
METHOD:PUBLISH
X-ORIGINAL-URL:https://epocaresidents.com
X-WR-CALDESC:Events for Epoca Residents
REFRESH-INTERVAL;VALUE=DURATION:PT1H
X-Robots-Tag:noindex
X-PUBLISHED-TTL:PT1H
BEGIN:VTIMEZONE
TZID:America/Los_Angeles
BEGIN:DAYLIGHT
TZOFFSETFROM:-0800
TZOFFSETTO:-0700
TZNAME:PDT
DTSTART:20260308T100000
END:DAYLIGHT
BEGIN:STANDARD
TZOFFSETFROM:-0700
TZOFFSETTO:-0800
TZNAME:PST
DTSTART:20261101T090000
END:STANDARD
END:VTIMEZONE
BEGIN:VEVENT
DTSTART;TZID=America/Los_Angeles:20260508T170000
DTEND;TZID=America/Los_Angeles:20260508T200000
DTSTAMP:20260420T101816
CREATED:20260223T181913Z
LAST-MODIFIED:20260223T181913Z
UID:10000493-1778259600-1778270400@epocaresidents.com
SUMMARY:Friday Night Bites
DESCRIPTION:Born in Brooklyn is serving at Epoca! Stop by for some yummy eats!
URL:https://epocaresidents.com/event/friday-night-bites/
LOCATION:Food Truck Alley
CATEGORIES:food truck
ATTACH;FMTTYPE=image/png:https://epocaresidents.com/wp-content/uploads/2026/02/Resident-E-Blast-Photo-58.png
GEO:32.55815;-116.99203
END:VEVENT
BEGIN:VEVENT
DTSTART;TZID=America/Los_Angeles:20260612T170000
DTEND;TZID=America/Los_Angeles:20260612T200000
DTSTAMP:20260420T101816
CREATED:20251022T184615Z
LAST-MODIFIED:20260409T213151Z
UID:10000479-1781283600-1781294400@epocaresidents.com
SUMMARY:Friday Night Bites
DESCRIPTION:Surf me a Taco will be serving up at Epoca! See you there!
URL:https://epocaresidents.com/event/friday-night-bites-7/
LOCATION:Food Truck Alley
CATEGORIES:food truck
ATTACH;FMTTYPE=image/png:https://epocaresidents.com/wp-content/uploads/2025/10/Resident-E-Blast-Photo-2.png
GEO:32.55815;-116.99203
END:VEVENT
BEGIN:VEVENT
DTSTART;TZID=America/Los_Angeles:20260710T170000
DTEND;TZID=America/Los_Angeles:20260710T200000
DTSTAMP:20260420T101816
CREATED:20251022T185604Z
LAST-MODIFIED:20251022T185604Z
UID:10000483-1783702800-1783713600@epocaresidents.com
SUMMARY:Friday Night Bites
DESCRIPTION:Join us for some Friday Night Bites here at Epoca! More info coming soon!
URL:https://epocaresidents.com/event/friday-night-bites-8/
LOCATION:Food Truck Alley
CATEGORIES:food truck
ATTACH;FMTTYPE=image/png:https://epocaresidents.com/wp-content/uploads/2025/10/Resident-E-Blast-Photo-35.png
GEO:32.55815;-116.99203
END:VEVENT
BEGIN:VEVENT
DTSTART;TZID=America/Los_Angeles:20260814T170000
DTEND;TZID=America/Los_Angeles:20260814T200000
DTSTAMP:20260420T101816
CREATED:20251022T185623Z
LAST-MODIFIED:20251022T185623Z
UID:10000484-1786726800-1786737600@epocaresidents.com
SUMMARY:Friday Night Bites
DESCRIPTION:Join us for some Friday Night Bites here at Epoca! More info coming soon!
URL:https://epocaresidents.com/event/friday-night-bites-9/
LOCATION:Food Truck Alley
CATEGORIES:food truck
ATTACH;FMTTYPE=image/png:https://epocaresidents.com/wp-content/uploads/2025/10/Resident-E-Blast-Photo-35.png
GEO:32.55815;-116.99203
END:VEVENT
BEGIN:VEVENT
DTSTART;TZID=America/Los_Angeles:20260911T170000
DTEND;TZID=America/Los_Angeles:20260911T200000
DTSTAMP:20260420T101816
CREATED:20251022T185634Z
LAST-MODIFIED:20251022T185634Z
UID:10000485-1789146000-1789156800@epocaresidents.com
SUMMARY:Friday Night Bites
DESCRIPTION:Join us for some Friday Night Bites here at Epoca! More info coming soon!
URL:https://epocaresidents.com/event/friday-night-bites-10/
LOCATION:Food Truck Alley
CATEGORIES:food truck
ATTACH;FMTTYPE=image/png:https://epocaresidents.com/wp-content/uploads/2025/10/Resident-E-Blast-Photo-35.png
GEO:32.55815;-116.99203
END:VEVENT
BEGIN:VEVENT
DTSTART;TZID=America/Los_Angeles:20261009T170000
DTEND;TZID=America/Los_Angeles:20261009T200000
DTSTAMP:20260420T101816
CREATED:20251022T185649Z
LAST-MODIFIED:20251022T185649Z
UID:10000486-1791565200-1791576000@epocaresidents.com
SUMMARY:Friday Night Bites
DESCRIPTION:Join us for some Friday Night Bites here at Epoca! More info coming soon!
URL:https://epocaresidents.com/event/friday-night-bites-11/
LOCATION:Food Truck Alley
CATEGORIES:food truck
ATTACH;FMTTYPE=image/png:https://epocaresidents.com/wp-content/uploads/2025/10/Resident-E-Blast-Photo-35.png
GEO:32.55815;-116.99203
END:VEVENT
BEGIN:VEVENT
DTSTART;TZID=America/Los_Angeles:20261113T170000
DTEND;TZID=America/Los_Angeles:20261113T200000
DTSTAMP:20260420T101816
CREATED:20251022T185724Z
LAST-MODIFIED:20251022T185724Z
UID:10000487-1794589200-1794600000@epocaresidents.com
SUMMARY:Friday Night Bites
DESCRIPTION:Join us for some Friday Night Bites here at Epoca! More info coming soon!
URL:https://epocaresidents.com/event/friday-night-bites-12/
LOCATION:Food Truck Alley
CATEGORIES:food truck
ATTACH;FMTTYPE=image/png:https://epocaresidents.com/wp-content/uploads/2025/10/Resident-E-Blast-Photo-35.png
GEO:32.55815;-116.99203
END:VEVENT
BEGIN:VEVENT
DTSTART;TZID=America/Los_Angeles:20261211T170000
DTEND;TZID=America/Los_Angeles:20261211T200000
DTSTAMP:20260420T101816
CREATED:20251022T185737Z
LAST-MODIFIED:20251022T185737Z
UID:10000488-1797008400-1797019200@epocaresidents.com
SUMMARY:Friday Night Bites
DESCRIPTION:Join us for some Friday Night Bites here at Epoca! More info coming soon!
URL:https://epocaresidents.com/event/friday-night-bites-13/
LOCATION:Food Truck Alley
CATEGORIES:food truck
ATTACH;FMTTYPE=image/png:https://epocaresidents.com/wp-content/uploads/2025/10/Resident-E-Blast-Photo-35.png
GEO:32.55815;-116.99203
END:VEVENT
END:VCALENDAR