BEGIN:VCALENDAR
VERSION:2.0
PRODID:-//Epoca Residents - ECPv6.10.1//NONSGML v1.0//EN
CALSCALE:GREGORIAN
METHOD:PUBLISH
X-WR-CALNAME:Epoca Residents
X-ORIGINAL-URL:https://epocaresidents.com
X-WR-CALDESC:Events for Epoca Residents
REFRESH-INTERVAL;VALUE=DURATION:PT1H
X-Robots-Tag:noindex
X-PUBLISHED-TTL:PT1H
BEGIN:VTIMEZONE
TZID:America/Los_Angeles
BEGIN:DAYLIGHT
TZOFFSETFROM:-0800
TZOFFSETTO:-0700
TZNAME:PDT
DTSTART:20240310T100000
END:DAYLIGHT
BEGIN:STANDARD
TZOFFSETFROM:-0700
TZOFFSETTO:-0800
TZNAME:PST
DTSTART:20241103T090000
END:STANDARD
END:VTIMEZONE
BEGIN:VEVENT
DTSTART;TZID=America/Los_Angeles:20241206T170000
DTEND;TZID=America/Los_Angeles:20241206T190000
DTSTAMP:20260421T183438
CREATED:20241126T184342Z
LAST-MODIFIED:20241126T184342Z
UID:10000147-1733504400-1733511600@epocaresidents.com
SUMMARY:Food Truck Friday: Average Joes Burgers
DESCRIPTION:Serving up creative burgers and delicious chicken sandwiches\, Average Joes visits Epoca this Friday. Grab dinner in your own neighborhood\, entertain the family and enjoy our beautiful park setting. \nMenu
URL:https://epocaresidents.com/event/food-truck-friday-average-joes-burgers-dec-6/
LOCATION:Pop-Up Plaza
CATEGORIES:food truck
ATTACH;FMTTYPE=image/png:https://epocaresidents.com/wp-content/uploads/2024/09/Average-Joes-Burgers.png
END:VEVENT
BEGIN:VEVENT
DTSTART;TZID=America/Los_Angeles:20241205T163000
DTEND;TZID=America/Los_Angeles:20241205T171500
DTSTAMP:20260421T183438
CREATED:20240820T180902Z
LAST-MODIFIED:20241115T015310Z
UID:10000138-1733416200-1733418900@epocaresidents.com
SUMMARY:Outdoor Fitness Fusion Class
DESCRIPTION:Join our Outdoor Fitness Fusion class at Epoca’s Pop-Up Plaza (southwest corner of Epoca and Secano). Each week alternates between strength training and cardio-focused workouts. Whether you’re looking to build muscle or boost endurance\, this class has something for everyone!
URL:https://epocaresidents.com/event/outdoor-fitness-fusion-class/2024-12-05/
LOCATION:Pop-Up Plaza Grass Area
CATEGORIES:fitness
ATTACH;FMTTYPE=image/png:https://epocaresidents.com/wp-content/uploads/2024/08/Epoca-Outdoor-Fitness-Fusion-Class.png
END:VEVENT
BEGIN:VEVENT
DTSTART;TZID=America/Los_Angeles:20241203T163000
DTEND;TZID=America/Los_Angeles:20241203T171500
DTSTAMP:20260421T183438
CREATED:20240502T022607Z
LAST-MODIFIED:20241115T014819Z
UID:10000131-1733243400-1733246100@epocaresidents.com
SUMMARY:Yoga in the Park
DESCRIPTION:Join Yoga in the Park at Epoca’s Pop-Up Plaza (southwest corner of Epoca and Secano). Channel your inner yogi\, enhance your flexibility and connect with fellow residents. All skill levels are welcome!
URL:https://epocaresidents.com/event/yoga-class/2024-12-03/
LOCATION:Pop-Up Plaza Grass Area
CATEGORIES:yoga
ATTACH;FMTTYPE=image/png:https://epocaresidents.com/wp-content/uploads/2024/05/Epoca-Yoga-in-the-Park.png
END:VEVENT
BEGIN:VEVENT
DTSTART;TZID=America/Los_Angeles:20241130T080000
DTEND;TZID=America/Los_Angeles:20241130T110000
DTSTAMP:20260421T183438
CREATED:20241126T182401Z
LAST-MODIFIED:20241126T182401Z
UID:10000146-1732953600-1732964400@epocaresidents.com
SUMMARY:Hot Bevs Coffee Truck
DESCRIPTION:Join us for handcrafted coffee drinks\, tea blends and fruit smoothies from our visiting Coffee Truck this Saturday at Pop-Up Plaza. \nMenu
URL:https://epocaresidents.com/event/hot-bevs-coffee-truck-2/
LOCATION:Pop-Up Plaza
CATEGORIES:coffee truck
ATTACH;FMTTYPE=image/png:https://epocaresidents.com/wp-content/uploads/2024/11/HotBevs-Coffee-Truck.png
END:VEVENT
BEGIN:VEVENT
DTSTART;TZID=America/Los_Angeles:20241129T170000
DTEND;TZID=America/Los_Angeles:20241129T190000
DTSTAMP:20260421T183438
CREATED:20241121T021021Z
LAST-MODIFIED:20241121T021021Z
UID:10000145-1732899600-1732906800@epocaresidents.com
SUMMARY:Food Truck Friday: San Diego Sliders Company
DESCRIPTION:Indulge in custom sliders from San Diego Sliders Company including BBQ tri tip\, spicy Philly cheese steak\, garlic butter grilled chicken and more. Grab dinner in your own community and enjoy our peaceful park setting. \nMenu
URL:https://epocaresidents.com/event/food-truck-friday-san-diego-sliders-company/
LOCATION:Pop-Up Plaza
CATEGORIES:food truck
ATTACH;FMTTYPE=image/png:https://epocaresidents.com/wp-content/uploads/2024/11/San-Diego-Sliders-Co.png
END:VEVENT
BEGIN:VEVENT
DTSTART;TZID=America/Los_Angeles:20241126T163000
DTEND;TZID=America/Los_Angeles:20241126T171500
DTSTAMP:20260421T183438
CREATED:20240502T022607Z
LAST-MODIFIED:20241115T014819Z
UID:10000119-1732638600-1732641300@epocaresidents.com
SUMMARY:Yoga in the Park
DESCRIPTION:Join Yoga in the Park at Epoca’s Pop-Up Plaza (southwest corner of Epoca and Secano). Channel your inner yogi\, enhance your flexibility and connect with fellow residents. All skill levels are welcome!
URL:https://epocaresidents.com/event/yoga-class/2024-11-26/
LOCATION:Pop-Up Plaza Grass Area
CATEGORIES:yoga
ATTACH;FMTTYPE=image/png:https://epocaresidents.com/wp-content/uploads/2024/05/Epoca-Yoga-in-the-Park.png
END:VEVENT
BEGIN:VEVENT
DTSTART;TZID=America/Los_Angeles:20241123T080000
DTEND;TZID=America/Los_Angeles:20241123T110000
DTSTAMP:20260421T183438
CREATED:20241104T001428Z
LAST-MODIFIED:20241104T001428Z
UID:10000087-1732348800-1732359600@epocaresidents.com
SUMMARY:Loko Bean Coffee Truck
DESCRIPTION:Join us for handcrafted coffee drinks from Loko Bean Coffee Truck this Saturday at Pop-Up Plaza. \nMenu
URL:https://epocaresidents.com/event/loko-bean-coffee-truck-nov-23/
LOCATION:Pop-Up Plaza
CATEGORIES:coffee truck
ATTACH;FMTTYPE=image/png:https://epocaresidents.com/wp-content/uploads/2024/09/Loko-Bean-Coffee-Truck-1.png
END:VEVENT
BEGIN:VEVENT
DTSTART;TZID=America/Los_Angeles:20241122T170000
DTEND;TZID=America/Los_Angeles:20241122T190000
DTSTAMP:20260421T183438
CREATED:20241119T183435Z
LAST-MODIFIED:20241119T183435Z
UID:10000144-1732294800-1732302000@epocaresidents.com
SUMMARY:Food Truck Friday: El Guero 2
DESCRIPTION:Check out creative Mexican cuisine from El Guero 2 this Friday. Enjoy fresh Mexican favorites from tasty tacos to spicy seafood\, relax in our beautiful park and meet your neighbors. \nMenu
URL:https://epocaresidents.com/event/food-truck-friday-el-guero-2/
LOCATION:Pop-Up Plaza
CATEGORIES:food truck
ATTACH;FMTTYPE=image/png:https://epocaresidents.com/wp-content/uploads/2024/11/El-Guero-2.png
END:VEVENT
BEGIN:VEVENT
DTSTART;TZID=America/Los_Angeles:20241121T163000
DTEND;TZID=America/Los_Angeles:20241121T171500
DTSTAMP:20260421T183438
CREATED:20240820T180902Z
LAST-MODIFIED:20241115T015310Z
UID:10000129-1732206600-1732209300@epocaresidents.com
SUMMARY:Outdoor Fitness Fusion Class
DESCRIPTION:Join our Outdoor Fitness Fusion class at Epoca’s Pop-Up Plaza (southwest corner of Epoca and Secano). Each week alternates between strength training and cardio-focused workouts. Whether you’re looking to build muscle or boost endurance\, this class has something for everyone!
URL:https://epocaresidents.com/event/outdoor-fitness-fusion-class/2024-11-21/
LOCATION:Pop-Up Plaza Grass Area
CATEGORIES:fitness
ATTACH;FMTTYPE=image/png:https://epocaresidents.com/wp-content/uploads/2024/08/Epoca-Outdoor-Fitness-Fusion-Class.png
END:VEVENT
BEGIN:VEVENT
DTSTART;TZID=America/Los_Angeles:20241119T163000
DTEND;TZID=America/Los_Angeles:20241119T171500
DTSTAMP:20260421T183438
CREATED:20240502T022607Z
LAST-MODIFIED:20241115T014819Z
UID:10000118-1732033800-1732036500@epocaresidents.com
SUMMARY:Yoga in the Park
DESCRIPTION:Join Yoga in the Park at Epoca’s Pop-Up Plaza (southwest corner of Epoca and Secano). Channel your inner yogi\, enhance your flexibility and connect with fellow residents. All skill levels are welcome!
URL:https://epocaresidents.com/event/yoga-class/2024-11-19/
LOCATION:Pop-Up Plaza Grass Area
CATEGORIES:yoga
ATTACH;FMTTYPE=image/png:https://epocaresidents.com/wp-content/uploads/2024/05/Epoca-Yoga-in-the-Park.png
END:VEVENT
BEGIN:VEVENT
DTSTART;TZID=America/Los_Angeles:20241115T170000
DTEND;TZID=America/Los_Angeles:20241115T190000
DTSTAMP:20260421T183438
CREATED:20241114T213945Z
LAST-MODIFIED:20241115T014404Z
UID:10000130-1731690000-1731697200@epocaresidents.com
SUMMARY:Food Truck Friday: Dirty Birds
DESCRIPTION:Join us for savory chicken wings\, sandwiches and fries from Dirty Birds food truck. Buy dinner in your own Epoca community\, meet your neighbors and enjoy our beautiful park setting. \nMenu
URL:https://epocaresidents.com/event/food-truck-friday-dirty-birds-nov-15/
LOCATION:Pop-Up Plaza
CATEGORIES:food truck
ATTACH;FMTTYPE=image/png:https://epocaresidents.com/wp-content/uploads/2024/10/Dirty-Birds-Food-Truck-Fridays.png
END:VEVENT
BEGIN:VEVENT
DTSTART;TZID=America/Los_Angeles:20241114T163000
DTEND;TZID=America/Los_Angeles:20241114T171500
DTSTAMP:20260421T183438
CREATED:20240820T180902Z
LAST-MODIFIED:20241115T015310Z
UID:10000128-1731601800-1731604500@epocaresidents.com
SUMMARY:Outdoor Fitness Fusion Class
DESCRIPTION:Join our Outdoor Fitness Fusion class at Epoca’s Pop-Up Plaza (southwest corner of Epoca and Secano). Each week alternates between strength training and cardio-focused workouts. Whether you’re looking to build muscle or boost endurance\, this class has something for everyone!
URL:https://epocaresidents.com/event/outdoor-fitness-fusion-class/2024-11-14/
LOCATION:Pop-Up Plaza Grass Area
CATEGORIES:fitness
ATTACH;FMTTYPE=image/png:https://epocaresidents.com/wp-content/uploads/2024/08/Epoca-Outdoor-Fitness-Fusion-Class.png
END:VEVENT
BEGIN:VEVENT
DTSTART;TZID=America/Los_Angeles:20241113T163000
DTEND;TZID=America/Los_Angeles:20241113T183000
DTSTAMP:20260421T183438
CREATED:20241104T002652Z
LAST-MODIFIED:20241108T005841Z
UID:10000089-1731515400-1731522600@epocaresidents.com
SUMMARY:Letters to Our Heroes
DESCRIPTION:Join us for Letters to Our Heroes\, an event for all ages to support our troops overseas. We will send these messages of appreciation in partnership with A Million Thanks. Pizza\, drinks and dessert will be provided! \nRSVP: https://letterstoourtroops.rsvpify.com/
URL:https://epocaresidents.com/event/letters-to-our-heroes/
LOCATION:Mason Clubhouse
CATEGORIES:special event
ATTACH;FMTTYPE=image/png:https://epocaresidents.com/wp-content/uploads/2024/11/Letters-to-Our-Heroes.png
END:VEVENT
BEGIN:VEVENT
DTSTART;TZID=America/Los_Angeles:20241112T163000
DTEND;TZID=America/Los_Angeles:20241112T171500
DTSTAMP:20260421T183438
CREATED:20240502T022607Z
LAST-MODIFIED:20241115T014819Z
UID:10000117-1731429000-1731431700@epocaresidents.com
SUMMARY:Yoga in the Park
DESCRIPTION:Join Yoga in the Park at Epoca’s Pop-Up Plaza (southwest corner of Epoca and Secano). Channel your inner yogi\, enhance your flexibility and connect with fellow residents. All skill levels are welcome!
URL:https://epocaresidents.com/event/yoga-class/2024-11-12/
LOCATION:Pop-Up Plaza Grass Area
CATEGORIES:yoga
ATTACH;FMTTYPE=image/png:https://epocaresidents.com/wp-content/uploads/2024/05/Epoca-Yoga-in-the-Park.png
END:VEVENT
BEGIN:VEVENT
DTSTART;TZID=America/Los_Angeles:20241109T080000
DTEND;TZID=America/Los_Angeles:20241109T110000
DTSTAMP:20260421T183438
CREATED:20241104T001504Z
LAST-MODIFIED:20241104T001504Z
UID:10000088-1731139200-1731150000@epocaresidents.com
SUMMARY:Loko Bean Coffee Truck
DESCRIPTION:Join us for handcrafted coffee drinks from Loko Bean Coffee Truck this Saturday at Pop-Up Plaza. \nMenu
URL:https://epocaresidents.com/event/loko-bean-coffee-truck-nov-9/
LOCATION:Pop-Up Plaza
CATEGORIES:coffee truck
ATTACH;FMTTYPE=image/png:https://epocaresidents.com/wp-content/uploads/2024/09/Loko-Bean-Coffee-Truck-1.png
END:VEVENT
BEGIN:VEVENT
DTSTART;TZID=America/Los_Angeles:20241108T170000
DTEND;TZID=America/Los_Angeles:20241108T190000
DTSTAMP:20260421T183438
CREATED:20241024T000052Z
LAST-MODIFIED:20241103T222934Z
UID:10000085-1731085200-1731092400@epocaresidents.com
SUMMARY:Food Truck Friday: Born In Brooklyn
DESCRIPTION:Featuring East Coast-inspired comfort food\, Born In Brooklyn food truck is serving up Friday dinner in the park. Enjoy our beautiful neighborhood setting and grab a tasty meal in your own Epoca community! \nMenu
URL:https://epocaresidents.com/event/food-truck-friday-born-in-brooklyn-nov-8/
LOCATION:Pop-Up Plaza
CATEGORIES:food truck
ATTACH;FMTTYPE=image/png:https://epocaresidents.com/wp-content/uploads/2024/09/Born-In-Brooklyn-September-27.png
END:VEVENT
BEGIN:VEVENT
DTSTART;TZID=America/Los_Angeles:20241107T163000
DTEND;TZID=America/Los_Angeles:20241107T171500
DTSTAMP:20260421T183438
CREATED:20240820T180902Z
LAST-MODIFIED:20241115T015310Z
UID:10000127-1730997000-1730999700@epocaresidents.com
SUMMARY:Outdoor Fitness Fusion Class
DESCRIPTION:Join our Outdoor Fitness Fusion class at Epoca’s Pop-Up Plaza (southwest corner of Epoca and Secano). Each week alternates between strength training and cardio-focused workouts. Whether you’re looking to build muscle or boost endurance\, this class has something for everyone!
URL:https://epocaresidents.com/event/outdoor-fitness-fusion-class/2024-11-07/
LOCATION:Pop-Up Plaza Grass Area
CATEGORIES:fitness
ATTACH;FMTTYPE=image/png:https://epocaresidents.com/wp-content/uploads/2024/08/Epoca-Outdoor-Fitness-Fusion-Class.png
END:VEVENT
BEGIN:VEVENT
DTSTART;TZID=America/Los_Angeles:20241105T163000
DTEND;TZID=America/Los_Angeles:20241105T171500
DTSTAMP:20260421T183438
CREATED:20240502T022607Z
LAST-MODIFIED:20241115T014819Z
UID:10000116-1730824200-1730826900@epocaresidents.com
SUMMARY:Yoga in the Park
DESCRIPTION:Join Yoga in the Park at Epoca’s Pop-Up Plaza (southwest corner of Epoca and Secano). Channel your inner yogi\, enhance your flexibility and connect with fellow residents. All skill levels are welcome!
URL:https://epocaresidents.com/event/yoga-class/2024-11-05/
LOCATION:Pop-Up Plaza Grass Area
CATEGORIES:yoga
ATTACH;FMTTYPE=image/png:https://epocaresidents.com/wp-content/uploads/2024/05/Epoca-Yoga-in-the-Park.png
END:VEVENT
BEGIN:VEVENT
DTSTART;TZID=America/Los_Angeles:20241101T170000
DTEND;TZID=America/Los_Angeles:20241101T190000
DTSTAMP:20260421T183438
CREATED:20241023T020503Z
LAST-MODIFIED:20241023T020520Z
UID:10000083-1730480400-1730487600@epocaresidents.com
SUMMARY:Food Truck Friday: Dirty Birds
DESCRIPTION:Join us for savory chicken wings\, sandwiches and fries from Dirty Birds food truck. Buy dinner in your own Epoca community\, meet your neighbors and enjoy our beautiful park setting.
URL:https://epocaresidents.com/event/food-truck-friday-dirty-birds-nov-1/
LOCATION:Pop-Up Plaza
CATEGORIES:food truck
ATTACH;FMTTYPE=image/png:https://epocaresidents.com/wp-content/uploads/2024/10/Dirty-Birds-Food-Truck-Fridays.png
END:VEVENT
BEGIN:VEVENT
DTSTART;TZID=America/Los_Angeles:20241029T163000
DTEND;TZID=America/Los_Angeles:20241029T171500
DTSTAMP:20260421T183438
CREATED:20240502T022607Z
LAST-MODIFIED:20241115T014819Z
UID:10000115-1730219400-1730222100@epocaresidents.com
SUMMARY:Yoga in the Park
DESCRIPTION:Join Yoga in the Park at Epoca’s Pop-Up Plaza (southwest corner of Epoca and Secano). Channel your inner yogi\, enhance your flexibility and connect with fellow residents. All skill levels are welcome!
URL:https://epocaresidents.com/event/yoga-class/2024-10-29/
LOCATION:Pop-Up Plaza Grass Area
CATEGORIES:yoga
ATTACH;FMTTYPE=image/png:https://epocaresidents.com/wp-content/uploads/2024/05/Epoca-Yoga-in-the-Park.png
END:VEVENT
BEGIN:VEVENT
DTSTART;TZID=America/Los_Angeles:20241026T080000
DTEND;TZID=America/Los_Angeles:20241026T110000
DTSTAMP:20260421T183438
CREATED:20241018T022159Z
LAST-MODIFIED:20241018T022159Z
UID:10000082-1729929600-1729940400@epocaresidents.com
SUMMARY:Loko Bean Coffee Truck
DESCRIPTION:Join us for handcrafted coffee drinks from Loko Bean Coffee Truck this Saturday at Pop-Up Plaza.
URL:https://epocaresidents.com/event/loko-bean-coffee-truck-oct-26/
LOCATION:Pop-Up Plaza
CATEGORIES:coffee truck
ATTACH;FMTTYPE=image/png:https://epocaresidents.com/wp-content/uploads/2024/09/Loko-Bean-Coffee-Truck-1.png
END:VEVENT
BEGIN:VEVENT
DTSTART;TZID=America/Los_Angeles:20241025T170000
DTEND;TZID=America/Los_Angeles:20241025T203000
DTSTAMP:20260421T183438
CREATED:20241003T020614Z
LAST-MODIFIED:20241003T020716Z
UID:10000071-1729875600-1729888200@epocaresidents.com
SUMMARY:Halloween Movie in the Park
DESCRIPTION:Join us for a movie in the park event featuring Butcher Paper food truck\, trick-or-treat bag decorating\, lawn games\, popcorn and candy station\, and a showing of Hotel Transylvania beginning at 7pm. Bring blankets or chairs!
URL:https://epocaresidents.com/event/halloween-movie-in-the-park/
LOCATION:Pop-Up Plaza
CATEGORIES:food truck,holiday,movie
ATTACH;FMTTYPE=image/png:https://epocaresidents.com/wp-content/uploads/2024/10/Halloween-Movie-in-the-Park.png
END:VEVENT
BEGIN:VEVENT
DTSTART;TZID=America/Los_Angeles:20241024T163000
DTEND;TZID=America/Los_Angeles:20241024T171500
DTSTAMP:20260421T183438
CREATED:20240820T180902Z
LAST-MODIFIED:20241115T015310Z
UID:10000126-1729787400-1729790100@epocaresidents.com
SUMMARY:Outdoor Fitness Fusion Class
DESCRIPTION:Join our Outdoor Fitness Fusion class at Epoca’s Pop-Up Plaza (southwest corner of Epoca and Secano). Each week alternates between strength training and cardio-focused workouts. Whether you’re looking to build muscle or boost endurance\, this class has something for everyone!
URL:https://epocaresidents.com/event/outdoor-fitness-fusion-class/2024-10-24/
LOCATION:Pop-Up Plaza Grass Area
CATEGORIES:fitness
ATTACH;FMTTYPE=image/png:https://epocaresidents.com/wp-content/uploads/2024/08/Epoca-Outdoor-Fitness-Fusion-Class.png
END:VEVENT
BEGIN:VEVENT
DTSTART;TZID=America/Los_Angeles:20241022T163000
DTEND;TZID=America/Los_Angeles:20241022T171500
DTSTAMP:20260421T183438
CREATED:20240502T022607Z
LAST-MODIFIED:20241115T014819Z
UID:10000114-1729614600-1729617300@epocaresidents.com
SUMMARY:Yoga in the Park
DESCRIPTION:Join Yoga in the Park at Epoca’s Pop-Up Plaza (southwest corner of Epoca and Secano). Channel your inner yogi\, enhance your flexibility and connect with fellow residents. All skill levels are welcome!
URL:https://epocaresidents.com/event/yoga-class/2024-10-22/
LOCATION:Pop-Up Plaza Grass Area
CATEGORIES:yoga
ATTACH;FMTTYPE=image/png:https://epocaresidents.com/wp-content/uploads/2024/05/Epoca-Yoga-in-the-Park.png
END:VEVENT
BEGIN:VEVENT
DTSTART;TZID=America/Los_Angeles:20241019T080000
DTEND;TZID=America/Los_Angeles:20241019T110000
DTSTAMP:20260421T183438
CREATED:20240924T000727Z
LAST-MODIFIED:20240924T000727Z
UID:10000068-1729324800-1729335600@epocaresidents.com
SUMMARY:Loko Bean Coffee Truck
DESCRIPTION:Join us for handcrafted coffee drinks from Loko Bean Coffee Truck this Saturday at Pop-Up Plaza.
URL:https://epocaresidents.com/event/loko-bean-coffee-truck-oct-19/
LOCATION:Pop-Up Plaza
CATEGORIES:coffee truck
ATTACH;FMTTYPE=image/png:https://epocaresidents.com/wp-content/uploads/2024/09/Loko-Bean-Coffee-Truck-1.png
END:VEVENT
BEGIN:VEVENT
DTSTART;TZID=America/Los_Angeles:20241018T170000
DTEND;TZID=America/Los_Angeles:20241018T190000
DTSTAMP:20260421T183438
CREATED:20241015T213902Z
LAST-MODIFIED:20241015T213902Z
UID:10000074-1729270800-1729278000@epocaresidents.com
SUMMARY:Food Truck Friday: Bluez Grill
DESCRIPTION:Join us for savory smashed burgers\, street dogs and more from Bluez Grill food truck. Buy dinner in your own Epoca community\, meet your neighbors and enjoy our beautiful park setting.
URL:https://epocaresidents.com/event/food-truck-friday-bluez-grill-oct-18/
LOCATION:Pop-Up Plaza
CATEGORIES:food truck
ATTACH;FMTTYPE=image/png:https://epocaresidents.com/wp-content/uploads/2024/10/Bluez-Grill-Food-Truck-Fridays.png
END:VEVENT
BEGIN:VEVENT
DTSTART;TZID=America/Los_Angeles:20241017T163000
DTEND;TZID=America/Los_Angeles:20241017T171500
DTSTAMP:20260421T183438
CREATED:20240820T180902Z
LAST-MODIFIED:20241115T015310Z
UID:10000125-1729182600-1729185300@epocaresidents.com
SUMMARY:Outdoor Fitness Fusion Class
DESCRIPTION:Join our Outdoor Fitness Fusion class at Epoca’s Pop-Up Plaza (southwest corner of Epoca and Secano). Each week alternates between strength training and cardio-focused workouts. Whether you’re looking to build muscle or boost endurance\, this class has something for everyone!
URL:https://epocaresidents.com/event/outdoor-fitness-fusion-class/2024-10-17/
LOCATION:Pop-Up Plaza Grass Area
CATEGORIES:fitness
ATTACH;FMTTYPE=image/png:https://epocaresidents.com/wp-content/uploads/2024/08/Epoca-Outdoor-Fitness-Fusion-Class.png
END:VEVENT
BEGIN:VEVENT
DTSTART;TZID=America/Los_Angeles:20241015T163000
DTEND;TZID=America/Los_Angeles:20241015T171500
DTSTAMP:20260421T183438
CREATED:20240502T022607Z
LAST-MODIFIED:20241115T014819Z
UID:10000113-1729009800-1729012500@epocaresidents.com
SUMMARY:Yoga in the Park
DESCRIPTION:Join Yoga in the Park at Epoca’s Pop-Up Plaza (southwest corner of Epoca and Secano). Channel your inner yogi\, enhance your flexibility and connect with fellow residents. All skill levels are welcome!
URL:https://epocaresidents.com/event/yoga-class/2024-10-15/
LOCATION:Pop-Up Plaza Grass Area
CATEGORIES:yoga
ATTACH;FMTTYPE=image/png:https://epocaresidents.com/wp-content/uploads/2024/05/Epoca-Yoga-in-the-Park.png
END:VEVENT
BEGIN:VEVENT
DTSTART;TZID=America/Los_Angeles:20241012T080000
DTEND;TZID=America/Los_Angeles:20241012T110000
DTSTAMP:20260421T183438
CREATED:20241011T162330Z
LAST-MODIFIED:20241011T162330Z
UID:10000073-1728720000-1728730800@epocaresidents.com
SUMMARY:Hot Bevs Coffee Truck
DESCRIPTION:Join us for handcrafted coffee drinks\, tea blends and fruit smoothies from our visiting Coffee Truck this Saturday at Pop-Up Plaza.
URL:https://epocaresidents.com/event/hot-bevs-coffee-truck/
LOCATION:Pop-Up Plaza
CATEGORIES:coffee truck
ATTACH;FMTTYPE=image/png:https://epocaresidents.com/wp-content/uploads/2024/10/Food-Coffee-Truck-1.png
END:VEVENT
BEGIN:VEVENT
DTSTART;TZID=America/Los_Angeles:20241011T170000
DTEND;TZID=America/Los_Angeles:20241011T190000
DTSTAMP:20260421T183438
CREATED:20241008T163556Z
LAST-MODIFIED:20241008T163751Z
UID:10000072-1728666000-1728673200@epocaresidents.com
SUMMARY:Food Truck Friday: Bluez Grill
DESCRIPTION:Join us for savory smashed burgers\, street dogs and more from Bluez Grill food truck. Buy dinner in your own Epoca community\, meet your neighbors and enjoy our beautiful park setting.
URL:https://epocaresidents.com/event/food-truck-friday-bluez-grill-october-11/
LOCATION:Pop-Up Plaza
CATEGORIES:food truck
ATTACH;FMTTYPE=image/png:https://epocaresidents.com/wp-content/uploads/2024/10/bluez-grill.png
END:VEVENT
END:VCALENDAR