BEGIN:VCALENDAR
VERSION:2.0
PRODID:-//Epoca Residents - ECPv6.10.1//NONSGML v1.0//EN
CALSCALE:GREGORIAN
METHOD:PUBLISH
X-WR-CALNAME:Epoca Residents
X-ORIGINAL-URL:https://epocaresidents.com
X-WR-CALDESC:Events for Epoca Residents
REFRESH-INTERVAL;VALUE=DURATION:PT1H
X-Robots-Tag:noindex
X-PUBLISHED-TTL:PT1H
BEGIN:VTIMEZONE
TZID:America/Los_Angeles
BEGIN:DAYLIGHT
TZOFFSETFROM:-0800
TZOFFSETTO:-0700
TZNAME:PDT
DTSTART:20240310T100000
END:DAYLIGHT
BEGIN:STANDARD
TZOFFSETFROM:-0700
TZOFFSETTO:-0800
TZNAME:PST
DTSTART:20241103T090000
END:STANDARD
END:VTIMEZONE
BEGIN:VEVENT
DTSTART;TZID=America/Los_Angeles:20240607T170000
DTEND;TZID=America/Los_Angeles:20240607T190000
DTSTAMP:20260422T151807
CREATED:20240605T033512Z
LAST-MODIFIED:20240605T221313Z
UID:10000013-1717779600-1717786800@epocaresidents.com
SUMMARY:Food Truck Friday: Simply Fresh
DESCRIPTION:Save yourself a drive to a nearby restaurant when you can buy dinner right here in your own Epoca community! Join us for delicious bites from Simply Fresh food truck located at the Epoca Pop-Up Plaza. See you then!
URL:https://epocaresidents.com/event/food-truck-friday-simply-fresh/
LOCATION:Pop-Up Plaza
CATEGORIES:food truck
ATTACH;FMTTYPE=image/png:https://epocaresidents.com/wp-content/uploads/2024/06/Simply-Fresh.png
END:VEVENT
BEGIN:VEVENT
DTSTART;TZID=America/Los_Angeles:20240604T163000
DTEND;TZID=America/Los_Angeles:20240604T171500
DTSTAMP:20260422T151807
CREATED:20240502T022607Z
LAST-MODIFIED:20241115T014819Z
UID:10000094-1717518600-1717521300@epocaresidents.com
SUMMARY:Yoga in the Park
DESCRIPTION:Join Yoga in the Park at Epoca’s Pop-Up Plaza (southwest corner of Epoca and Secano). Channel your inner yogi\, enhance your flexibility and connect with fellow residents. All skill levels are welcome!
URL:https://epocaresidents.com/event/yoga-class/2024-06-04/
LOCATION:Pop-Up Plaza Grass Area
CATEGORIES:yoga
ATTACH;FMTTYPE=image/png:https://epocaresidents.com/wp-content/uploads/2024/05/Epoca-Yoga-in-the-Park.png
END:VEVENT
BEGIN:VEVENT
DTSTART;TZID=America/Los_Angeles:20240528T163000
DTEND;TZID=America/Los_Angeles:20240528T171500
DTSTAMP:20260422T151807
CREATED:20240502T022607Z
LAST-MODIFIED:20241115T014819Z
UID:10000093-1716913800-1716916500@epocaresidents.com
SUMMARY:Yoga in the Park
DESCRIPTION:Join Yoga in the Park at Epoca’s Pop-Up Plaza (southwest corner of Epoca and Secano). Channel your inner yogi\, enhance your flexibility and connect with fellow residents. All skill levels are welcome!
URL:https://epocaresidents.com/event/yoga-class/2024-05-28/
LOCATION:Pop-Up Plaza Grass Area
CATEGORIES:yoga
ATTACH;FMTTYPE=image/png:https://epocaresidents.com/wp-content/uploads/2024/05/Epoca-Yoga-in-the-Park.png
END:VEVENT
BEGIN:VEVENT
DTSTART;TZID=America/Los_Angeles:20240524T163000
DTEND;TZID=America/Los_Angeles:20240524T193000
DTSTAMP:20260422T151807
CREATED:20240517T161054Z
LAST-MODIFIED:20240521T160244Z
UID:10000008-1716568200-1716579000@epocaresidents.com
SUMMARY:Food Truck Friday: Zoe’s Place
DESCRIPTION:Enjoy delicious bites from Zoe’s Place food truck! Save yourself a drive to a nearby restaurant and buy dinner right here in your own community. \nDownload Flyer
URL:https://epocaresidents.com/event/food-truck-friday-zoes-place/
LOCATION:Pop-Up Plaza
CATEGORIES:food truck
ATTACH;FMTTYPE=image/png:https://epocaresidents.com/wp-content/uploads/2024/05/Zoes-Place-May-24-flyer.png
END:VEVENT
BEGIN:VEVENT
DTSTART;TZID=America/Los_Angeles:20240521T163000
DTEND;TZID=America/Los_Angeles:20240521T171500
DTSTAMP:20260422T151807
CREATED:20240502T022607Z
LAST-MODIFIED:20241115T014819Z
UID:10000092-1716309000-1716311700@epocaresidents.com
SUMMARY:Yoga in the Park
DESCRIPTION:Join Yoga in the Park at Epoca’s Pop-Up Plaza (southwest corner of Epoca and Secano). Channel your inner yogi\, enhance your flexibility and connect with fellow residents. All skill levels are welcome!
URL:https://epocaresidents.com/event/yoga-class/2024-05-21/
LOCATION:Pop-Up Plaza Grass Area
CATEGORIES:yoga
ATTACH;FMTTYPE=image/png:https://epocaresidents.com/wp-content/uploads/2024/05/Epoca-Yoga-in-the-Park.png
END:VEVENT
BEGIN:VEVENT
DTSTART;TZID=America/Los_Angeles:20240517T163000
DTEND;TZID=America/Los_Angeles:20240517T193000
DTSTAMP:20260422T151807
CREATED:20240517T160728Z
LAST-MODIFIED:20240517T161102Z
UID:10000007-1715963400-1715974200@epocaresidents.com
SUMMARY:Food Truck Friday: 360 Italian
DESCRIPTION:Enjoy delicious bites from 360 Italian food truck! Save yourself a drive to a nearby restaurant and buy dinner right here in your own community. \nDownload Flyer
URL:https://epocaresidents.com/event/food-truck-friday-360-italian/
LOCATION:Pop-Up Plaza
CATEGORIES:food truck
ATTACH;FMTTYPE=image/png:https://epocaresidents.com/wp-content/uploads/2024/05/360-Italian-May-17-flyer.png
END:VEVENT
BEGIN:VEVENT
DTSTART;TZID=America/Los_Angeles:20240514T163000
DTEND;TZID=America/Los_Angeles:20240514T171500
DTSTAMP:20260422T151807
CREATED:20240502T022607Z
LAST-MODIFIED:20241115T014819Z
UID:10000091-1715704200-1715706900@epocaresidents.com
SUMMARY:Yoga in the Park
DESCRIPTION:Join Yoga in the Park at Epoca’s Pop-Up Plaza (southwest corner of Epoca and Secano). Channel your inner yogi\, enhance your flexibility and connect with fellow residents. All skill levels are welcome!
URL:https://epocaresidents.com/event/yoga-class/2024-05-14/
LOCATION:Pop-Up Plaza Grass Area
CATEGORIES:yoga
ATTACH;FMTTYPE=image/png:https://epocaresidents.com/wp-content/uploads/2024/05/Epoca-Yoga-in-the-Park.png
END:VEVENT
BEGIN:VEVENT
DTSTART;TZID=America/Los_Angeles:20240507T163000
DTEND;TZID=America/Los_Angeles:20240507T171500
DTSTAMP:20260422T151807
CREATED:20240502T022607Z
LAST-MODIFIED:20241115T014819Z
UID:10000090-1715099400-1715102100@epocaresidents.com
SUMMARY:Yoga in the Park
DESCRIPTION:Join Yoga in the Park at Epoca’s Pop-Up Plaza (southwest corner of Epoca and Secano). Channel your inner yogi\, enhance your flexibility and connect with fellow residents. All skill levels are welcome!
URL:https://epocaresidents.com/event/yoga-class/2024-05-07/
LOCATION:Pop-Up Plaza Grass Area
CATEGORIES:yoga
ATTACH;FMTTYPE=image/png:https://epocaresidents.com/wp-content/uploads/2024/05/Epoca-Yoga-in-the-Park.png
END:VEVENT
END:VCALENDAR