BEGIN:VCALENDAR
VERSION:2.0
PRODID:-//Epoca Residents - ECPv6.10.1//NONSGML v1.0//EN
CALSCALE:GREGORIAN
METHOD:PUBLISH
X-WR-CALNAME:Epoca Residents
X-ORIGINAL-URL:https://epocaresidents.com
X-WR-CALDESC:Events for Epoca Residents
REFRESH-INTERVAL;VALUE=DURATION:PT1H
X-Robots-Tag:noindex
X-PUBLISHED-TTL:PT1H
BEGIN:VTIMEZONE
TZID:America/Los_Angeles
BEGIN:DAYLIGHT
TZOFFSETFROM:-0800
TZOFFSETTO:-0700
TZNAME:PDT
DTSTART:20240310T100000
END:DAYLIGHT
BEGIN:STANDARD
TZOFFSETFROM:-0700
TZOFFSETTO:-0800
TZNAME:PST
DTSTART:20241103T090000
END:STANDARD
BEGIN:DAYLIGHT
TZOFFSETFROM:-0800
TZOFFSETTO:-0700
TZNAME:PDT
DTSTART:20250309T100000
END:DAYLIGHT
BEGIN:STANDARD
TZOFFSETFROM:-0700
TZOFFSETTO:-0800
TZNAME:PST
DTSTART:20251102T090000
END:STANDARD
END:VTIMEZONE
BEGIN:VEVENT
DTSTART;TZID=America/Los_Angeles:20250131T170000
DTEND;TZID=America/Los_Angeles:20250131T190000
DTSTAMP:20260421T190837
CREATED:20250102T211850Z
LAST-MODIFIED:20250204T010216Z
UID:10000171-1738342800-1738350000@epocaresidents.com
SUMMARY:Dog Meet-Up
DESCRIPTION:Join us every Monday\, Wednesday and Friday for a doggie meet-up in the park. Connect with neighbors while your furry friends play.
URL:https://epocaresidents.com/event/dog-meet-up/2025-01-31/
LOCATION:Pop-Up Park
CATEGORIES:dog
ATTACH;FMTTYPE=image/png:https://epocaresidents.com/wp-content/uploads/2025/01/dog-meet-up.png
END:VEVENT
BEGIN:VEVENT
DTSTART;TZID=America/Los_Angeles:20250130T173000
DTEND;TZID=America/Los_Angeles:20250130T181500
DTSTAMP:20260421T190837
CREATED:20250114T180753Z
LAST-MODIFIED:20250430T233413Z
UID:10000352-1738258200-1738260900@epocaresidents.com
SUMMARY:Fitness Fusion
DESCRIPTION:Join us for Fitness Fusion—a free resident workout led by DataFit in the Ironwood Gym! Meet neighbors\, boost your mood\, and get fit with circuit-style training using gym equipment.
URL:https://epocaresidents.com/event/fitness-fusion-thursdays/2025-01-30/
LOCATION:Ironwood Gym
CATEGORIES:fitness
ATTACH;FMTTYPE=image/png:https://epocaresidents.com/wp-content/uploads/2025/01/epocaresidents.com-events-3.png
END:VEVENT
BEGIN:VEVENT
DTSTART;TZID=America/Los_Angeles:20250129T170000
DTEND;TZID=America/Los_Angeles:20250129T190000
DTSTAMP:20260421T190837
CREATED:20250102T211850Z
LAST-MODIFIED:20250204T010216Z
UID:10000170-1738170000-1738177200@epocaresidents.com
SUMMARY:Dog Meet-Up
DESCRIPTION:Join us every Monday\, Wednesday and Friday for a doggie meet-up in the park. Connect with neighbors while your furry friends play.
URL:https://epocaresidents.com/event/dog-meet-up/2025-01-29/
LOCATION:Pop-Up Park
CATEGORIES:dog
ATTACH;FMTTYPE=image/png:https://epocaresidents.com/wp-content/uploads/2025/01/dog-meet-up.png
END:VEVENT
BEGIN:VEVENT
DTSTART;TZID=America/Los_Angeles:20250128T173000
DTEND;TZID=America/Los_Angeles:20250128T181500
DTSTAMP:20260421T190837
CREATED:20250114T180433Z
LAST-MODIFIED:20250430T233351Z
UID:10000345-1738085400-1738088100@epocaresidents.com
SUMMARY:Fitness Fusion
DESCRIPTION:Join us for Fitness Fusion—a free resident workout led by DataFit in the Mason Gym! Meet neighbors\, boost your mood\, and get fit with circuit-style training using gym equipment.
URL:https://epocaresidents.com/event/fitness-fusion-tuesdays/2025-01-28/
LOCATION:Mason Gym
CATEGORIES:fitness
ATTACH;FMTTYPE=image/png:https://epocaresidents.com/wp-content/uploads/2025/01/epocaresidents.com-events-2.png
END:VEVENT
BEGIN:VEVENT
DTSTART;TZID=America/Los_Angeles:20250127T170000
DTEND;TZID=America/Los_Angeles:20250127T190000
DTSTAMP:20260421T190837
CREATED:20250102T211850Z
LAST-MODIFIED:20250204T010216Z
UID:10000169-1737997200-1738004400@epocaresidents.com
SUMMARY:Dog Meet-Up
DESCRIPTION:Join us every Monday\, Wednesday and Friday for a doggie meet-up in the park. Connect with neighbors while your furry friends play.
URL:https://epocaresidents.com/event/dog-meet-up/2025-01-27/
LOCATION:Pop-Up Park
CATEGORIES:dog
ATTACH;FMTTYPE=image/png:https://epocaresidents.com/wp-content/uploads/2025/01/dog-meet-up.png
END:VEVENT
BEGIN:VEVENT
DTSTART;TZID=America/Los_Angeles:20250124T170000
DTEND;TZID=America/Los_Angeles:20250124T190000
DTSTAMP:20260421T190837
CREATED:20250116T015256Z
LAST-MODIFIED:20250122T164756Z
UID:10000357-1737738000-1737745200@epocaresidents.com
SUMMARY:Food Truck Friday: The Go Go Truck
DESCRIPTION:Enjoy fresh and delicious dinner items from The Go Go Truck. Savor the Hoisin Pulled Pork Sandwich\, the Fried Chicken Banh Mi and other vibrant flavors right here in your own neighborhood! \nMenu
URL:https://epocaresidents.com/event/food-truck-friday-the-go-go-truck-jan-24/
LOCATION:Pop-Up Plaza
CATEGORIES:food truck
ATTACH;FMTTYPE=image/png:https://epocaresidents.com/wp-content/uploads/2025/01/The-Go-Go-Truck.png
END:VEVENT
BEGIN:VEVENT
DTSTART;TZID=America/Los_Angeles:20250124T170000
DTEND;TZID=America/Los_Angeles:20250124T190000
DTSTAMP:20260421T190837
CREATED:20250102T211850Z
LAST-MODIFIED:20250204T010216Z
UID:10000168-1737738000-1737745200@epocaresidents.com
SUMMARY:Dog Meet-Up
DESCRIPTION:Join us every Monday\, Wednesday and Friday for a doggie meet-up in the park. Connect with neighbors while your furry friends play.
URL:https://epocaresidents.com/event/dog-meet-up/2025-01-24/
LOCATION:Pop-Up Park
CATEGORIES:dog
ATTACH;FMTTYPE=image/png:https://epocaresidents.com/wp-content/uploads/2025/01/dog-meet-up.png
END:VEVENT
BEGIN:VEVENT
DTSTART;TZID=America/Los_Angeles:20250123T173000
DTEND;TZID=America/Los_Angeles:20250123T181500
DTSTAMP:20260421T190837
CREATED:20250114T180753Z
LAST-MODIFIED:20250430T233413Z
UID:10000351-1737653400-1737656100@epocaresidents.com
SUMMARY:Fitness Fusion
DESCRIPTION:Join us for Fitness Fusion—a free resident workout led by DataFit in the Ironwood Gym! Meet neighbors\, boost your mood\, and get fit with circuit-style training using gym equipment.
URL:https://epocaresidents.com/event/fitness-fusion-thursdays/2025-01-23/
LOCATION:Ironwood Gym
CATEGORIES:fitness
ATTACH;FMTTYPE=image/png:https://epocaresidents.com/wp-content/uploads/2025/01/epocaresidents.com-events-3.png
END:VEVENT
BEGIN:VEVENT
DTSTART;TZID=America/Los_Angeles:20250122T170000
DTEND;TZID=America/Los_Angeles:20250122T190000
DTSTAMP:20260421T190837
CREATED:20250102T211850Z
LAST-MODIFIED:20250204T010216Z
UID:10000167-1737565200-1737572400@epocaresidents.com
SUMMARY:Dog Meet-Up
DESCRIPTION:Join us every Monday\, Wednesday and Friday for a doggie meet-up in the park. Connect with neighbors while your furry friends play.
URL:https://epocaresidents.com/event/dog-meet-up/2025-01-22/
LOCATION:Pop-Up Park
CATEGORIES:dog
ATTACH;FMTTYPE=image/png:https://epocaresidents.com/wp-content/uploads/2025/01/dog-meet-up.png
END:VEVENT
BEGIN:VEVENT
DTSTART;TZID=America/Los_Angeles:20250121T173000
DTEND;TZID=America/Los_Angeles:20250121T181500
DTSTAMP:20260421T190837
CREATED:20250114T180433Z
LAST-MODIFIED:20250430T233351Z
UID:10000344-1737480600-1737483300@epocaresidents.com
SUMMARY:Fitness Fusion
DESCRIPTION:Join us for Fitness Fusion—a free resident workout led by DataFit in the Mason Gym! Meet neighbors\, boost your mood\, and get fit with circuit-style training using gym equipment.
URL:https://epocaresidents.com/event/fitness-fusion-tuesdays/2025-01-21/
LOCATION:Mason Gym
CATEGORIES:fitness
ATTACH;FMTTYPE=image/png:https://epocaresidents.com/wp-content/uploads/2025/01/epocaresidents.com-events-2.png
END:VEVENT
BEGIN:VEVENT
DTSTART;TZID=America/Los_Angeles:20250120T170000
DTEND;TZID=America/Los_Angeles:20250120T190000
DTSTAMP:20260421T190837
CREATED:20250102T211850Z
LAST-MODIFIED:20250204T010216Z
UID:10000166-1737392400-1737399600@epocaresidents.com
SUMMARY:Dog Meet-Up
DESCRIPTION:Join us every Monday\, Wednesday and Friday for a doggie meet-up in the park. Connect with neighbors while your furry friends play.
URL:https://epocaresidents.com/event/dog-meet-up/2025-01-20/
LOCATION:Pop-Up Park
CATEGORIES:dog
ATTACH;FMTTYPE=image/png:https://epocaresidents.com/wp-content/uploads/2025/01/dog-meet-up.png
END:VEVENT
BEGIN:VEVENT
DTSTART;TZID=America/Los_Angeles:20250117T170000
DTEND;TZID=America/Los_Angeles:20250117T190000
DTSTAMP:20260421T190837
CREATED:20250102T235737Z
LAST-MODIFIED:20250102T235737Z
UID:10000341-1737133200-1737140400@epocaresidents.com
SUMMARY:Food Truck Friday: El Guero
DESCRIPTION:Check out creative Mexican cuisine from El Guero 2. Enjoy fresh Mexican favorites from tasty tacos to spicy seafood\, relax in our beautiful park and meet your neighbors. \nMenu
URL:https://epocaresidents.com/event/food-truck-friday-el-guero-jan-17/
LOCATION:Pop-Up Plaza
CATEGORIES:food truck
ATTACH;FMTTYPE=image/png:https://epocaresidents.com/wp-content/uploads/2024/11/El-Guero-2.png
END:VEVENT
BEGIN:VEVENT
DTSTART;TZID=America/Los_Angeles:20250117T170000
DTEND;TZID=America/Los_Angeles:20250117T190000
DTSTAMP:20260421T190837
CREATED:20250102T211850Z
LAST-MODIFIED:20250204T010216Z
UID:10000165-1737133200-1737140400@epocaresidents.com
SUMMARY:Dog Meet-Up
DESCRIPTION:Join us every Monday\, Wednesday and Friday for a doggie meet-up in the park. Connect with neighbors while your furry friends play.
URL:https://epocaresidents.com/event/dog-meet-up/2025-01-17/
LOCATION:Pop-Up Park
CATEGORIES:dog
ATTACH;FMTTYPE=image/png:https://epocaresidents.com/wp-content/uploads/2025/01/dog-meet-up.png
END:VEVENT
BEGIN:VEVENT
DTSTART;TZID=America/Los_Angeles:20250116T173000
DTEND;TZID=America/Los_Angeles:20250116T181500
DTSTAMP:20260421T190837
CREATED:20250114T180753Z
LAST-MODIFIED:20250430T233413Z
UID:10000350-1737048600-1737051300@epocaresidents.com
SUMMARY:Fitness Fusion
DESCRIPTION:Join us for Fitness Fusion—a free resident workout led by DataFit in the Ironwood Gym! Meet neighbors\, boost your mood\, and get fit with circuit-style training using gym equipment.
URL:https://epocaresidents.com/event/fitness-fusion-thursdays/2025-01-16/2/
LOCATION:Ironwood Gym
CATEGORIES:fitness
ATTACH;FMTTYPE=image/png:https://epocaresidents.com/wp-content/uploads/2025/01/epocaresidents.com-events-3.png
END:VEVENT
BEGIN:VEVENT
DTSTART;TZID=America/Los_Angeles:20250116T080000
DTEND;TZID=America/Los_Angeles:20250116T170000
DTSTAMP:20260421T190838
CREATED:20250114T180753Z
LAST-MODIFIED:20250430T233413Z
UID:10000404-1737014400-1737046800@epocaresidents.com
SUMMARY:Fitness Fusion
DESCRIPTION:Join us for Fitness Fusion—a free resident workout led by DataFit in the Ironwood Gym! Meet neighbors\, boost your mood\, and get fit with circuit-style training using gym equipment.
URL:https://epocaresidents.com/event/fitness-fusion-thursdays/2025-01-16/1/
LOCATION:Ironwood Gym
CATEGORIES:fitness
ATTACH;FMTTYPE=image/png:https://epocaresidents.com/wp-content/uploads/2025/01/epocaresidents.com-events-3.png
END:VEVENT
BEGIN:VEVENT
DTSTART;TZID=America/Los_Angeles:20250115T170000
DTEND;TZID=America/Los_Angeles:20250115T190000
DTSTAMP:20260421T190838
CREATED:20250102T211850Z
LAST-MODIFIED:20250204T010216Z
UID:10000164-1736960400-1736967600@epocaresidents.com
SUMMARY:Dog Meet-Up
DESCRIPTION:Join us every Monday\, Wednesday and Friday for a doggie meet-up in the park. Connect with neighbors while your furry friends play.
URL:https://epocaresidents.com/event/dog-meet-up/2025-01-15/
LOCATION:Pop-Up Park
CATEGORIES:dog
ATTACH;FMTTYPE=image/png:https://epocaresidents.com/wp-content/uploads/2025/01/dog-meet-up.png
END:VEVENT
BEGIN:VEVENT
DTSTART;TZID=America/Los_Angeles:20250114T173000
DTEND;TZID=America/Los_Angeles:20250114T181500
DTSTAMP:20260421T190838
CREATED:20250114T180433Z
LAST-MODIFIED:20250430T233351Z
UID:10000343-1736875800-1736878500@epocaresidents.com
SUMMARY:Fitness Fusion
DESCRIPTION:Join us for Fitness Fusion—a free resident workout led by DataFit in the Mason Gym! Meet neighbors\, boost your mood\, and get fit with circuit-style training using gym equipment.
URL:https://epocaresidents.com/event/fitness-fusion-tuesdays/2025-01-14/
LOCATION:Mason Gym
CATEGORIES:fitness
ATTACH;FMTTYPE=image/png:https://epocaresidents.com/wp-content/uploads/2025/01/epocaresidents.com-events-2.png
END:VEVENT
BEGIN:VEVENT
DTSTART;TZID=America/Los_Angeles:20250113T170000
DTEND;TZID=America/Los_Angeles:20250113T190000
DTSTAMP:20260421T190838
CREATED:20250102T211850Z
LAST-MODIFIED:20250204T010216Z
UID:10000163-1736787600-1736794800@epocaresidents.com
SUMMARY:Dog Meet-Up
DESCRIPTION:Join us every Monday\, Wednesday and Friday for a doggie meet-up in the park. Connect with neighbors while your furry friends play.
URL:https://epocaresidents.com/event/dog-meet-up/2025-01-13/
LOCATION:Pop-Up Park
CATEGORIES:dog
ATTACH;FMTTYPE=image/png:https://epocaresidents.com/wp-content/uploads/2025/01/dog-meet-up.png
END:VEVENT
BEGIN:VEVENT
DTSTART;TZID=America/Los_Angeles:20250110T170000
DTEND;TZID=America/Los_Angeles:20250110T190000
DTSTAMP:20260421T190838
CREATED:20250102T235454Z
LAST-MODIFIED:20250102T235454Z
UID:10000340-1736528400-1736535600@epocaresidents.com
SUMMARY:Food Truck Friday: Butcher Paper
DESCRIPTION:Enjoy Butcher Paper’s bold flavors featuring The Butcher Burger\, The Wedge\, The Italian Stallion and other fresh menu items. Grab dinner in your own community and connect with neighbors. \nMenu
URL:https://epocaresidents.com/event/food-truck-friday-butcher-paper-jan-10/
LOCATION:Pop-Up Plaza
CATEGORIES:food truck
ATTACH;FMTTYPE=image/png:https://epocaresidents.com/wp-content/uploads/2024/09/Butcher-Paper-Flyer.png
END:VEVENT
BEGIN:VEVENT
DTSTART;TZID=America/Los_Angeles:20250110T170000
DTEND;TZID=America/Los_Angeles:20250110T190000
DTSTAMP:20260421T190838
CREATED:20250102T211850Z
LAST-MODIFIED:20250204T010216Z
UID:10000162-1736528400-1736535600@epocaresidents.com
SUMMARY:Dog Meet-Up
DESCRIPTION:Join us every Monday\, Wednesday and Friday for a doggie meet-up in the park. Connect with neighbors while your furry friends play.
URL:https://epocaresidents.com/event/dog-meet-up/2025-01-10/
LOCATION:Pop-Up Park
CATEGORIES:dog
ATTACH;FMTTYPE=image/png:https://epocaresidents.com/wp-content/uploads/2025/01/dog-meet-up.png
END:VEVENT
BEGIN:VEVENT
DTSTART;TZID=America/Los_Angeles:20250109T173000
DTEND;TZID=America/Los_Angeles:20250109T181500
DTSTAMP:20260421T190838
CREATED:20241220T204605Z
LAST-MODIFIED:20241220T204605Z
UID:10000151-1736443800-1736446500@epocaresidents.com
SUMMARY:Fitness Fusion
DESCRIPTION:Join our Fitness Fusion class at Epoca (location: Mason or Ironwood Gym depending on the week). Each week alternates between strength training and cardio-focused workouts. Whether you’re looking to build muscle or boost endurance\, this class has something for everyone!
URL:https://epocaresidents.com/event/fitness-fusion/
LOCATION:Ironwood Gym
CATEGORIES:fitness
ATTACH;FMTTYPE=image/png:https://epocaresidents.com/wp-content/uploads/2024/12/Fitness-Fusion.png
END:VEVENT
BEGIN:VEVENT
DTSTART;TZID=America/Los_Angeles:20250108T170000
DTEND;TZID=America/Los_Angeles:20250108T190000
DTSTAMP:20260421T190838
CREATED:20250102T211850Z
LAST-MODIFIED:20250204T010216Z
UID:10000161-1736355600-1736362800@epocaresidents.com
SUMMARY:Dog Meet-Up
DESCRIPTION:Join us every Monday\, Wednesday and Friday for a doggie meet-up in the park. Connect with neighbors while your furry friends play.
URL:https://epocaresidents.com/event/dog-meet-up/2025-01-08/
LOCATION:Pop-Up Park
CATEGORIES:dog
ATTACH;FMTTYPE=image/png:https://epocaresidents.com/wp-content/uploads/2025/01/dog-meet-up.png
END:VEVENT
BEGIN:VEVENT
DTSTART;TZID=America/Los_Angeles:20250106T170000
DTEND;TZID=America/Los_Angeles:20250106T190000
DTSTAMP:20260421T190838
CREATED:20250102T211850Z
LAST-MODIFIED:20250204T010216Z
UID:10000160-1736182800-1736190000@epocaresidents.com
SUMMARY:Dog Meet-Up
DESCRIPTION:Join us every Monday\, Wednesday and Friday for a doggie meet-up in the park. Connect with neighbors while your furry friends play.
URL:https://epocaresidents.com/event/dog-meet-up/2025-01-06/
LOCATION:Pop-Up Park
CATEGORIES:dog
ATTACH;FMTTYPE=image/png:https://epocaresidents.com/wp-content/uploads/2025/01/dog-meet-up.png
END:VEVENT
BEGIN:VEVENT
DTSTART;TZID=America/Los_Angeles:20250103T170000
DTEND;TZID=America/Los_Angeles:20250103T190000
DTSTAMP:20260421T190838
CREATED:20250102T211850Z
LAST-MODIFIED:20250204T010216Z
UID:10000159-1735923600-1735930800@epocaresidents.com
SUMMARY:Dog Meet-Up
DESCRIPTION:Join us every Monday\, Wednesday and Friday for a doggie meet-up in the park. Connect with neighbors while your furry friends play.
URL:https://epocaresidents.com/event/dog-meet-up/2025-01-03/
LOCATION:Pop-Up Park
CATEGORIES:dog
ATTACH;FMTTYPE=image/png:https://epocaresidents.com/wp-content/uploads/2025/01/dog-meet-up.png
END:VEVENT
BEGIN:VEVENT
DTSTART;TZID=America/Los_Angeles:20250103T170000
DTEND;TZID=America/Los_Angeles:20250103T190000
DTSTAMP:20260421T190838
CREATED:20241209T213229Z
LAST-MODIFIED:20241221T003409Z
UID:10000149-1735923600-1735930800@epocaresidents.com
SUMMARY:Food Truck Friday: Dirty Birds
DESCRIPTION:Join us for savory chicken wings\, sandwiches and fries from Dirty Birds food truck. Buy dinner in your own community\, entertain the family and meet your neighbors! \nMenu
URL:https://epocaresidents.com/event/food-truck-friday-dirty-birds-jan-3/
LOCATION:Pop-Up Plaza
CATEGORIES:food truck
ATTACH;FMTTYPE=image/png:https://epocaresidents.com/wp-content/uploads/2024/10/Dirty-Birds-Food-Truck-Fridays.png
END:VEVENT
BEGIN:VEVENT
DTSTART;TZID=America/Los_Angeles:20241227T170000
DTEND;TZID=America/Los_Angeles:20241227T190000
DTSTAMP:20260421T190838
CREATED:20241024T000106Z
LAST-MODIFIED:20241209T213412Z
UID:10000086-1735318800-1735326000@epocaresidents.com
SUMMARY:Food Truck Friday: Butcher Paper
DESCRIPTION:Enjoy Butcher Paper’s bold flavors featuring The Butcher Burger\, The Wedge\, The Italian Stallion and other fresh menu items. Grab dinner in your own community\, meet the neighbors and savor our beautiful park setting. \nMenu
URL:https://epocaresidents.com/event/food-truck-friday-butcher-paper-dec-27/
LOCATION:Pop-Up Plaza
CATEGORIES:food truck
ATTACH;FMTTYPE=image/png:https://epocaresidents.com/wp-content/uploads/2024/09/Butcher-Paper-Flyer.png
END:VEVENT
BEGIN:VEVENT
DTSTART;TZID=America/Los_Angeles:20241220T170000
DTEND;TZID=America/Los_Angeles:20241220T190000
DTSTAMP:20260421T190838
CREATED:20241216T182525Z
LAST-MODIFIED:20241216T182525Z
UID:10000150-1734714000-1734721200@epocaresidents.com
SUMMARY:Food Truck Friday: The Go Go Truck
DESCRIPTION:Enjoy fresh and delicious dinner items from The Go Go Truck. From the Hoisin Pulled Pork Sandwich to the Fried Chicken Banh Mi\, you’ll find vibrant flavors and a global sensibility. Grab dinner in your own neighborhood this weekend! \nMenu
URL:https://epocaresidents.com/event/food-truck-friday-the-go-go-truck/
LOCATION:Pop-Up Plaza
CATEGORIES:food truck
ATTACH;FMTTYPE=image/png:https://epocaresidents.com/wp-content/uploads/2024/12/The-Go-Go-Truck.png
END:VEVENT
BEGIN:VEVENT
DTSTART;TZID=America/Los_Angeles:20241219T163000
DTEND;TZID=America/Los_Angeles:20241219T171500
DTSTAMP:20260421T190838
CREATED:20240820T180902Z
LAST-MODIFIED:20241115T015310Z
UID:10000140-1734625800-1734628500@epocaresidents.com
SUMMARY:Outdoor Fitness Fusion Class
DESCRIPTION:Join our Outdoor Fitness Fusion class at Epoca’s Pop-Up Plaza (southwest corner of Epoca and Secano). Each week alternates between strength training and cardio-focused workouts. Whether you’re looking to build muscle or boost endurance\, this class has something for everyone!
URL:https://epocaresidents.com/event/outdoor-fitness-fusion-class/2024-12-19/
LOCATION:Pop-Up Plaza Grass Area
CATEGORIES:fitness
ATTACH;FMTTYPE=image/png:https://epocaresidents.com/wp-content/uploads/2024/08/Epoca-Outdoor-Fitness-Fusion-Class.png
END:VEVENT
BEGIN:VEVENT
DTSTART;TZID=America/Los_Angeles:20241217T163000
DTEND;TZID=America/Los_Angeles:20241217T171500
DTSTAMP:20260421T190838
CREATED:20240502T022607Z
LAST-MODIFIED:20241115T014819Z
UID:10000133-1734453000-1734455700@epocaresidents.com
SUMMARY:Yoga in the Park
DESCRIPTION:Join Yoga in the Park at Epoca’s Pop-Up Plaza (southwest corner of Epoca and Secano). Channel your inner yogi\, enhance your flexibility and connect with fellow residents. All skill levels are welcome!
URL:https://epocaresidents.com/event/yoga-class/2024-12-17/
LOCATION:Pop-Up Plaza Grass Area
CATEGORIES:yoga
ATTACH;FMTTYPE=image/png:https://epocaresidents.com/wp-content/uploads/2024/05/Epoca-Yoga-in-the-Park.png
END:VEVENT
BEGIN:VEVENT
DTSTART;TZID=America/Los_Angeles:20241213T163000
DTEND;TZID=America/Los_Angeles:20241213T190000
DTSTAMP:20260421T190838
CREATED:20241202T232502Z
LAST-MODIFIED:20241202T232502Z
UID:10000148-1734107400-1734116400@epocaresidents.com
SUMMARY:Holiday Party in the Park
DESCRIPTION:Join us for a festive holiday party in the park featuring food and beverage trucks\, photos with Santa\, live music\, hot cocoa\, firepits with s’mores\, and ornament and letter-making activities.
URL:https://epocaresidents.com/event/holiday-party-in-the-park/
LOCATION:Pop-Up Plaza
CATEGORIES:special event
ATTACH;FMTTYPE=image/png:https://epocaresidents.com/wp-content/uploads/2024/12/Epoca-Holiday-Party-in-the-Park.png
END:VEVENT
END:VCALENDAR