BEGIN:VCALENDAR
VERSION:2.0
PRODID:-//Epoca Residents - ECPv6.10.1//NONSGML v1.0//EN
CALSCALE:GREGORIAN
METHOD:PUBLISH
X-WR-CALNAME:Epoca Residents
X-ORIGINAL-URL:https://epocaresidents.com
X-WR-CALDESC:Events for Epoca Residents
REFRESH-INTERVAL;VALUE=DURATION:PT1H
X-Robots-Tag:noindex
X-PUBLISHED-TTL:PT1H
BEGIN:VTIMEZONE
TZID:America/Los_Angeles
BEGIN:DAYLIGHT
TZOFFSETFROM:-0800
TZOFFSETTO:-0700
TZNAME:PDT
DTSTART:20250309T100000
END:DAYLIGHT
BEGIN:STANDARD
TZOFFSETFROM:-0700
TZOFFSETTO:-0800
TZNAME:PST
DTSTART:20251102T090000
END:STANDARD
END:VTIMEZONE
BEGIN:VEVENT
DTSTART;TZID=America/Los_Angeles:20250413T110000
DTEND;TZID=America/Los_Angeles:20250413T130000
DTSTAMP:20260421T124445
CREATED:20250304T030655Z
LAST-MODIFIED:20250304T030655Z
UID:10000394-1744542000-1744549200@epocaresidents.com
SUMMARY:Hop To It Party in the Park
DESCRIPTION:Join us for a fun-filled spring celebration featuring Simply Fresh food truck\, Easter egg hunts\, kids’ crafts and a special appearance from the Easter Bunny. Bring the whole family for this egg-citing community event!
URL:https://epocaresidents.com/event/hop-to-it-party-in-the-park/
LOCATION:Pop-Up Plaza
CATEGORIES:food truck,special event
ATTACH;FMTTYPE=image/png:https://epocaresidents.com/wp-content/uploads/2025/03/Hop-To-It-Party-in-the-Park.png
END:VEVENT
BEGIN:VEVENT
DTSTART;TZID=America/Los_Angeles:20250411T170000
DTEND;TZID=America/Los_Angeles:20250411T190000
DTSTAMP:20260421T124445
CREATED:20250225T015408Z
LAST-MODIFIED:20250225T015408Z
UID:10000391-1744390800-1744398000@epocaresidents.com
SUMMARY:Food Truck Friday: Butcher Paper
DESCRIPTION:Enjoy Butcher Paper’s bold flavors featuring The Butcher Burger\, The Wedge\, The Italian Stallion and other fresh menu items. Connect with neighbors and enjoy dinner in your own community.
URL:https://epocaresidents.com/event/food-truck-friday-butcher-paper-apr-11/
LOCATION:Pop-Up Plaza
CATEGORIES:food truck
ATTACH;FMTTYPE=image/png:https://epocaresidents.com/wp-content/uploads/2024/09/Butcher-Paper-Flyer.png
END:VEVENT
BEGIN:VEVENT
DTSTART;TZID=America/Los_Angeles:20250410T173000
DTEND;TZID=America/Los_Angeles:20250410T181500
DTSTAMP:20260421T124445
CREATED:20250114T180753Z
LAST-MODIFIED:20250430T233413Z
UID:10000406-1744306200-1744308900@epocaresidents.com
SUMMARY:Fitness Fusion
DESCRIPTION:Join us for Fitness Fusion—a free resident workout led by DataFit in the Ironwood Gym! Meet neighbors\, boost your mood\, and get fit with circuit-style training using gym equipment.
URL:https://epocaresidents.com/event/fitness-fusion-thursdays/2025-04-10/
LOCATION:Ironwood Gym
CATEGORIES:fitness
ATTACH;FMTTYPE=image/png:https://epocaresidents.com/wp-content/uploads/2025/01/epocaresidents.com-events-3.png
END:VEVENT
BEGIN:VEVENT
DTSTART;TZID=America/Los_Angeles:20250408T173000
DTEND;TZID=America/Los_Angeles:20250408T181500
DTSTAMP:20260421T124445
CREATED:20250114T180433Z
LAST-MODIFIED:20250430T233351Z
UID:10000396-1744133400-1744136100@epocaresidents.com
SUMMARY:Fitness Fusion
DESCRIPTION:Join us for Fitness Fusion—a free resident workout led by DataFit in the Mason Gym! Meet neighbors\, boost your mood\, and get fit with circuit-style training using gym equipment.
URL:https://epocaresidents.com/event/fitness-fusion-tuesdays/2025-04-08/
LOCATION:Mason Gym
CATEGORIES:fitness
ATTACH;FMTTYPE=image/png:https://epocaresidents.com/wp-content/uploads/2025/01/epocaresidents.com-events-2.png
END:VEVENT
BEGIN:VEVENT
DTSTART;TZID=America/Los_Angeles:20250404T170000
DTEND;TZID=America/Los_Angeles:20250404T190000
DTSTAMP:20260421T124445
CREATED:20250225T015312Z
LAST-MODIFIED:20250225T015312Z
UID:10000390-1743786000-1743793200@epocaresidents.com
SUMMARY:Food Truck Friday: The Go Go Truck
DESCRIPTION:Enjoy fresh and delicious dinner items from The Go Go Truck. Savor the Hoisin Pulled Pork Sandwich\, the Fried Chicken Banh Mi and other vibrant flavors right here in your own neighborhood! \nMenu
URL:https://epocaresidents.com/event/food-truck-friday-the-go-go-truck-apr-4/
LOCATION:Pop-Up Plaza
CATEGORIES:food truck
ATTACH;FMTTYPE=image/png:https://epocaresidents.com/wp-content/uploads/2025/01/The-Go-Go-Truck.png
END:VEVENT
BEGIN:VEVENT
DTSTART;TZID=America/Los_Angeles:20250403T173000
DTEND;TZID=America/Los_Angeles:20250403T181500
DTSTAMP:20260421T124445
CREATED:20250114T180753Z
LAST-MODIFIED:20250430T233413Z
UID:10000405-1743701400-1743704100@epocaresidents.com
SUMMARY:Fitness Fusion
DESCRIPTION:Join us for Fitness Fusion—a free resident workout led by DataFit in the Ironwood Gym! Meet neighbors\, boost your mood\, and get fit with circuit-style training using gym equipment.
URL:https://epocaresidents.com/event/fitness-fusion-thursdays/2025-04-03/
LOCATION:Ironwood Gym
CATEGORIES:fitness
ATTACH;FMTTYPE=image/png:https://epocaresidents.com/wp-content/uploads/2025/01/epocaresidents.com-events-3.png
END:VEVENT
BEGIN:VEVENT
DTSTART;TZID=America/Los_Angeles:20250401T173000
DTEND;TZID=America/Los_Angeles:20250401T181500
DTSTAMP:20260421T124445
CREATED:20250114T180433Z
LAST-MODIFIED:20250430T233351Z
UID:10000395-1743528600-1743531300@epocaresidents.com
SUMMARY:Fitness Fusion
DESCRIPTION:Join us for Fitness Fusion—a free resident workout led by DataFit in the Mason Gym! Meet neighbors\, boost your mood\, and get fit with circuit-style training using gym equipment.
URL:https://epocaresidents.com/event/fitness-fusion-tuesdays/2025-04-01/
LOCATION:Mason Gym
CATEGORIES:fitness
ATTACH;FMTTYPE=image/png:https://epocaresidents.com/wp-content/uploads/2025/01/epocaresidents.com-events-2.png
END:VEVENT
BEGIN:VEVENT
DTSTART;TZID=America/Los_Angeles:20250328T170000
DTEND;TZID=America/Los_Angeles:20250328T190000
DTSTAMP:20260421T124445
CREATED:20250225T015119Z
LAST-MODIFIED:20250225T015119Z
UID:10000389-1743181200-1743188400@epocaresidents.com
SUMMARY:Food Truck Friday: El Guero 2
DESCRIPTION:Come on out for creative cuisine from El Guero 2. Enjoy fresh Mexican favorites from tasty tacos to spicy seafood\, relax in our beautiful park and meet your neighbors.
URL:https://epocaresidents.com/event/food-truck-friday-el-guero-2-mar-28/
LOCATION:Pop-Up Plaza
CATEGORIES:food truck
ATTACH;FMTTYPE=image/png:https://epocaresidents.com/wp-content/uploads/2024/11/El-Guero-2.png
END:VEVENT
BEGIN:VEVENT
DTSTART;TZID=America/Los_Angeles:20250328T170000
DTEND;TZID=America/Los_Angeles:20250328T190000
DTSTAMP:20260421T124445
CREATED:20250102T211850Z
LAST-MODIFIED:20250204T010216Z
UID:10000374-1743181200-1743188400@epocaresidents.com
SUMMARY:Dog Meet-Up
DESCRIPTION:Join us every Monday\, Wednesday and Friday for a doggie meet-up in the park. Connect with neighbors while your furry friends play.
URL:https://epocaresidents.com/event/dog-meet-up/2025-03-28/
LOCATION:Pop-Up Park
CATEGORIES:dog
ATTACH;FMTTYPE=image/png:https://epocaresidents.com/wp-content/uploads/2025/01/dog-meet-up.png
END:VEVENT
BEGIN:VEVENT
DTSTART;TZID=America/Los_Angeles:20250327T173000
DTEND;TZID=America/Los_Angeles:20250327T181500
DTSTAMP:20260421T124445
CREATED:20250114T180753Z
LAST-MODIFIED:20250430T233413Z
UID:10000383-1743096600-1743099300@epocaresidents.com
SUMMARY:Fitness Fusion
DESCRIPTION:Join us for Fitness Fusion—a free resident workout led by DataFit in the Ironwood Gym! Meet neighbors\, boost your mood\, and get fit with circuit-style training using gym equipment.
URL:https://epocaresidents.com/event/fitness-fusion-thursdays/2025-03-27/
LOCATION:Ironwood Gym
CATEGORIES:fitness
ATTACH;FMTTYPE=image/png:https://epocaresidents.com/wp-content/uploads/2025/01/epocaresidents.com-events-3.png
END:VEVENT
BEGIN:VEVENT
DTSTART;TZID=America/Los_Angeles:20250326T170000
DTEND;TZID=America/Los_Angeles:20250326T190000
DTSTAMP:20260421T124445
CREATED:20250102T211850Z
LAST-MODIFIED:20250204T010216Z
UID:10000373-1743008400-1743015600@epocaresidents.com
SUMMARY:Dog Meet-Up
DESCRIPTION:Join us every Monday\, Wednesday and Friday for a doggie meet-up in the park. Connect with neighbors while your furry friends play.
URL:https://epocaresidents.com/event/dog-meet-up/2025-03-26/
LOCATION:Pop-Up Park
CATEGORIES:dog
ATTACH;FMTTYPE=image/png:https://epocaresidents.com/wp-content/uploads/2025/01/dog-meet-up.png
END:VEVENT
BEGIN:VEVENT
DTSTART;TZID=America/Los_Angeles:20250325T173000
DTEND;TZID=America/Los_Angeles:20250325T181500
DTSTAMP:20260421T124445
CREATED:20250114T180433Z
LAST-MODIFIED:20250430T233351Z
UID:10000378-1742923800-1742926500@epocaresidents.com
SUMMARY:Fitness Fusion
DESCRIPTION:Join us for Fitness Fusion—a free resident workout led by DataFit in the Mason Gym! Meet neighbors\, boost your mood\, and get fit with circuit-style training using gym equipment.
URL:https://epocaresidents.com/event/fitness-fusion-tuesdays/2025-03-25/
LOCATION:Mason Gym
CATEGORIES:fitness
ATTACH;FMTTYPE=image/png:https://epocaresidents.com/wp-content/uploads/2025/01/epocaresidents.com-events-2.png
END:VEVENT
BEGIN:VEVENT
DTSTART;TZID=America/Los_Angeles:20250324T170000
DTEND;TZID=America/Los_Angeles:20250324T190000
DTSTAMP:20260421T124445
CREATED:20250102T211850Z
LAST-MODIFIED:20250204T010216Z
UID:10000372-1742835600-1742842800@epocaresidents.com
SUMMARY:Dog Meet-Up
DESCRIPTION:Join us every Monday\, Wednesday and Friday for a doggie meet-up in the park. Connect with neighbors while your furry friends play.
URL:https://epocaresidents.com/event/dog-meet-up/2025-03-24/
LOCATION:Pop-Up Park
CATEGORIES:dog
ATTACH;FMTTYPE=image/png:https://epocaresidents.com/wp-content/uploads/2025/01/dog-meet-up.png
END:VEVENT
BEGIN:VEVENT
DTSTART;TZID=America/Los_Angeles:20250321T170000
DTEND;TZID=America/Los_Angeles:20250321T190000
DTSTAMP:20260421T124445
CREATED:20250225T015018Z
LAST-MODIFIED:20250225T015018Z
UID:10000388-1742576400-1742583600@epocaresidents.com
SUMMARY:Food Truck Friday: Leilani's Hawaiian
DESCRIPTION:Bringing Aloha eats to Epoca\, savor Hawaiian-style favorites from Leilani’s. Enjoy dinner in your own neighborhood this Friday!
URL:https://epocaresidents.com/event/food-truck-friday-leilanis-hawaiian/
LOCATION:Pop-Up Plaza
CATEGORIES:food truck
ATTACH;FMTTYPE=image/png:https://epocaresidents.com/wp-content/uploads/2025/02/Leilanis-Hawaiian.png
END:VEVENT
BEGIN:VEVENT
DTSTART;TZID=America/Los_Angeles:20250321T170000
DTEND;TZID=America/Los_Angeles:20250321T190000
DTSTAMP:20260421T124445
CREATED:20250102T211850Z
LAST-MODIFIED:20250204T010216Z
UID:10000371-1742576400-1742583600@epocaresidents.com
SUMMARY:Dog Meet-Up
DESCRIPTION:Join us every Monday\, Wednesday and Friday for a doggie meet-up in the park. Connect with neighbors while your furry friends play.
URL:https://epocaresidents.com/event/dog-meet-up/2025-03-21/
LOCATION:Pop-Up Park
CATEGORIES:dog
ATTACH;FMTTYPE=image/png:https://epocaresidents.com/wp-content/uploads/2025/01/dog-meet-up.png
END:VEVENT
BEGIN:VEVENT
DTSTART;TZID=America/Los_Angeles:20250320T173000
DTEND;TZID=America/Los_Angeles:20250320T181500
DTSTAMP:20260421T124445
CREATED:20250114T180753Z
LAST-MODIFIED:20250430T233413Z
UID:10000382-1742491800-1742494500@epocaresidents.com
SUMMARY:Fitness Fusion
DESCRIPTION:Join us for Fitness Fusion—a free resident workout led by DataFit in the Ironwood Gym! Meet neighbors\, boost your mood\, and get fit with circuit-style training using gym equipment.
URL:https://epocaresidents.com/event/fitness-fusion-thursdays/2025-03-20/
LOCATION:Ironwood Gym
CATEGORIES:fitness
ATTACH;FMTTYPE=image/png:https://epocaresidents.com/wp-content/uploads/2025/01/epocaresidents.com-events-3.png
END:VEVENT
BEGIN:VEVENT
DTSTART;TZID=America/Los_Angeles:20250319T170000
DTEND;TZID=America/Los_Angeles:20250319T190000
DTSTAMP:20260421T124445
CREATED:20250102T211850Z
LAST-MODIFIED:20250204T010216Z
UID:10000370-1742403600-1742410800@epocaresidents.com
SUMMARY:Dog Meet-Up
DESCRIPTION:Join us every Monday\, Wednesday and Friday for a doggie meet-up in the park. Connect with neighbors while your furry friends play.
URL:https://epocaresidents.com/event/dog-meet-up/2025-03-19/
LOCATION:Pop-Up Park
CATEGORIES:dog
ATTACH;FMTTYPE=image/png:https://epocaresidents.com/wp-content/uploads/2025/01/dog-meet-up.png
END:VEVENT
BEGIN:VEVENT
DTSTART;TZID=America/Los_Angeles:20250318T173000
DTEND;TZID=America/Los_Angeles:20250318T181500
DTSTAMP:20260421T124445
CREATED:20250114T180433Z
LAST-MODIFIED:20250430T233351Z
UID:10000377-1742319000-1742321700@epocaresidents.com
SUMMARY:Fitness Fusion
DESCRIPTION:Join us for Fitness Fusion—a free resident workout led by DataFit in the Mason Gym! Meet neighbors\, boost your mood\, and get fit with circuit-style training using gym equipment.
URL:https://epocaresidents.com/event/fitness-fusion-tuesdays/2025-03-18/
LOCATION:Mason Gym
CATEGORIES:fitness
ATTACH;FMTTYPE=image/png:https://epocaresidents.com/wp-content/uploads/2025/01/epocaresidents.com-events-2.png
END:VEVENT
BEGIN:VEVENT
DTSTART;TZID=America/Los_Angeles:20250317T170000
DTEND;TZID=America/Los_Angeles:20250317T190000
DTSTAMP:20260421T124445
CREATED:20250102T211850Z
LAST-MODIFIED:20250204T010216Z
UID:10000369-1742230800-1742238000@epocaresidents.com
SUMMARY:Dog Meet-Up
DESCRIPTION:Join us every Monday\, Wednesday and Friday for a doggie meet-up in the park. Connect with neighbors while your furry friends play.
URL:https://epocaresidents.com/event/dog-meet-up/2025-03-17/
LOCATION:Pop-Up Park
CATEGORIES:dog
ATTACH;FMTTYPE=image/png:https://epocaresidents.com/wp-content/uploads/2025/01/dog-meet-up.png
END:VEVENT
BEGIN:VEVENT
DTSTART;TZID=America/Los_Angeles:20250314T170000
DTEND;TZID=America/Los_Angeles:20250314T190000
DTSTAMP:20260421T124445
CREATED:20250225T014758Z
LAST-MODIFIED:20250225T014758Z
UID:10000387-1741971600-1741978800@epocaresidents.com
SUMMARY:Food Truck Friday: Cucina Di Pizza
DESCRIPTION:From the Spicy Chick to Sir-Pep-A-Lot\, enjoy delicious\, fresh pizza in your own Epoca community. Meet your neighbors and savor our peaceful park setting.
URL:https://epocaresidents.com/event/food-truck-friday-cucina-di-pizza/
LOCATION:Pop-Up Plaza
CATEGORIES:food truck
ATTACH;FMTTYPE=image/png:https://epocaresidents.com/wp-content/uploads/2025/02/Cucina-Di-Pizza.png
END:VEVENT
BEGIN:VEVENT
DTSTART;TZID=America/Los_Angeles:20250314T170000
DTEND;TZID=America/Los_Angeles:20250314T190000
DTSTAMP:20260421T124445
CREATED:20250102T211850Z
LAST-MODIFIED:20250204T010216Z
UID:10000368-1741971600-1741978800@epocaresidents.com
SUMMARY:Dog Meet-Up
DESCRIPTION:Join us every Monday\, Wednesday and Friday for a doggie meet-up in the park. Connect with neighbors while your furry friends play.
URL:https://epocaresidents.com/event/dog-meet-up/2025-03-14/
LOCATION:Pop-Up Park
CATEGORIES:dog
ATTACH;FMTTYPE=image/png:https://epocaresidents.com/wp-content/uploads/2025/01/dog-meet-up.png
END:VEVENT
BEGIN:VEVENT
DTSTART;TZID=America/Los_Angeles:20250313T173000
DTEND;TZID=America/Los_Angeles:20250313T181500
DTSTAMP:20260421T124445
CREATED:20250114T180753Z
LAST-MODIFIED:20250430T233413Z
UID:10000381-1741887000-1741889700@epocaresidents.com
SUMMARY:Fitness Fusion
DESCRIPTION:Join us for Fitness Fusion—a free resident workout led by DataFit in the Ironwood Gym! Meet neighbors\, boost your mood\, and get fit with circuit-style training using gym equipment.
URL:https://epocaresidents.com/event/fitness-fusion-thursdays/2025-03-13/
LOCATION:Ironwood Gym
CATEGORIES:fitness
ATTACH;FMTTYPE=image/png:https://epocaresidents.com/wp-content/uploads/2025/01/epocaresidents.com-events-3.png
END:VEVENT
BEGIN:VEVENT
DTSTART;TZID=America/Los_Angeles:20250312T170000
DTEND;TZID=America/Los_Angeles:20250312T190000
DTSTAMP:20260421T124445
CREATED:20250102T211850Z
LAST-MODIFIED:20250204T010216Z
UID:10000367-1741798800-1741806000@epocaresidents.com
SUMMARY:Dog Meet-Up
DESCRIPTION:Join us every Monday\, Wednesday and Friday for a doggie meet-up in the park. Connect with neighbors while your furry friends play.
URL:https://epocaresidents.com/event/dog-meet-up/2025-03-12/
LOCATION:Pop-Up Park
CATEGORIES:dog
ATTACH;FMTTYPE=image/png:https://epocaresidents.com/wp-content/uploads/2025/01/dog-meet-up.png
END:VEVENT
BEGIN:VEVENT
DTSTART;TZID=America/Los_Angeles:20250311T173000
DTEND;TZID=America/Los_Angeles:20250311T181500
DTSTAMP:20260421T124445
CREATED:20250114T180433Z
LAST-MODIFIED:20250430T233351Z
UID:10000376-1741714200-1741716900@epocaresidents.com
SUMMARY:Fitness Fusion
DESCRIPTION:Join us for Fitness Fusion—a free resident workout led by DataFit in the Mason Gym! Meet neighbors\, boost your mood\, and get fit with circuit-style training using gym equipment.
URL:https://epocaresidents.com/event/fitness-fusion-tuesdays/2025-03-11/
LOCATION:Mason Gym
CATEGORIES:fitness
ATTACH;FMTTYPE=image/png:https://epocaresidents.com/wp-content/uploads/2025/01/epocaresidents.com-events-2.png
END:VEVENT
BEGIN:VEVENT
DTSTART;TZID=America/Los_Angeles:20250310T170000
DTEND;TZID=America/Los_Angeles:20250310T190000
DTSTAMP:20260421T124445
CREATED:20250102T211850Z
LAST-MODIFIED:20250204T010216Z
UID:10000366-1741626000-1741633200@epocaresidents.com
SUMMARY:Dog Meet-Up
DESCRIPTION:Join us every Monday\, Wednesday and Friday for a doggie meet-up in the park. Connect with neighbors while your furry friends play.
URL:https://epocaresidents.com/event/dog-meet-up/2025-03-10/
LOCATION:Pop-Up Park
CATEGORIES:dog
ATTACH;FMTTYPE=image/png:https://epocaresidents.com/wp-content/uploads/2025/01/dog-meet-up.png
END:VEVENT
BEGIN:VEVENT
DTSTART;TZID=America/Los_Angeles:20250307T170000
DTEND;TZID=America/Los_Angeles:20250307T190000
DTSTAMP:20260421T124445
CREATED:20250225T014420Z
LAST-MODIFIED:20250304T031915Z
UID:10000386-1741366800-1741374000@epocaresidents.com
SUMMARY:Food Truck Friday: Dirty Birds
DESCRIPTION:Join us for savory chicken wings\, sandwiches and fries from Dirty Birds food truck. Buy dinner in your own community\, entertain the family and meet your neighbors.
URL:https://epocaresidents.com/event/food-truck-friday-dirty-birds-mar-7/
LOCATION:Pop-Up Plaza
CATEGORIES:food truck
ATTACH;FMTTYPE=image/png:https://epocaresidents.com/wp-content/uploads/2024/10/Dirty-Birds-Food-Truck-Fridays.png
END:VEVENT
BEGIN:VEVENT
DTSTART;TZID=America/Los_Angeles:20250307T170000
DTEND;TZID=America/Los_Angeles:20250307T190000
DTSTAMP:20260421T124445
CREATED:20250102T211850Z
LAST-MODIFIED:20250204T010216Z
UID:10000365-1741366800-1741374000@epocaresidents.com
SUMMARY:Dog Meet-Up
DESCRIPTION:Join us every Monday\, Wednesday and Friday for a doggie meet-up in the park. Connect with neighbors while your furry friends play.
URL:https://epocaresidents.com/event/dog-meet-up/2025-03-07/
LOCATION:Pop-Up Park
CATEGORIES:dog
ATTACH;FMTTYPE=image/png:https://epocaresidents.com/wp-content/uploads/2025/01/dog-meet-up.png
END:VEVENT
BEGIN:VEVENT
DTSTART;TZID=America/Los_Angeles:20250306T173000
DTEND;TZID=America/Los_Angeles:20250306T181500
DTSTAMP:20260421T124445
CREATED:20250114T180753Z
LAST-MODIFIED:20250430T233413Z
UID:10000380-1741282200-1741284900@epocaresidents.com
SUMMARY:Fitness Fusion
DESCRIPTION:Join us for Fitness Fusion—a free resident workout led by DataFit in the Ironwood Gym! Meet neighbors\, boost your mood\, and get fit with circuit-style training using gym equipment.
URL:https://epocaresidents.com/event/fitness-fusion-thursdays/2025-03-06/
LOCATION:Ironwood Gym
CATEGORIES:fitness
ATTACH;FMTTYPE=image/png:https://epocaresidents.com/wp-content/uploads/2025/01/epocaresidents.com-events-3.png
END:VEVENT
BEGIN:VEVENT
DTSTART;TZID=America/Los_Angeles:20250305T170000
DTEND;TZID=America/Los_Angeles:20250305T190000
DTSTAMP:20260421T124445
CREATED:20250102T211850Z
LAST-MODIFIED:20250204T010216Z
UID:10000364-1741194000-1741201200@epocaresidents.com
SUMMARY:Dog Meet-Up
DESCRIPTION:Join us every Monday\, Wednesday and Friday for a doggie meet-up in the park. Connect with neighbors while your furry friends play.
URL:https://epocaresidents.com/event/dog-meet-up/2025-03-05/
LOCATION:Pop-Up Park
CATEGORIES:dog
ATTACH;FMTTYPE=image/png:https://epocaresidents.com/wp-content/uploads/2025/01/dog-meet-up.png
END:VEVENT
BEGIN:VEVENT
DTSTART;TZID=America/Los_Angeles:20250304T173000
DTEND;TZID=America/Los_Angeles:20250304T181500
DTSTAMP:20260421T124445
CREATED:20250114T180433Z
LAST-MODIFIED:20250430T233351Z
UID:10000375-1741109400-1741112100@epocaresidents.com
SUMMARY:Fitness Fusion
DESCRIPTION:Join us for Fitness Fusion—a free resident workout led by DataFit in the Mason Gym! Meet neighbors\, boost your mood\, and get fit with circuit-style training using gym equipment.
URL:https://epocaresidents.com/event/fitness-fusion-tuesdays/2025-03-04/
LOCATION:Mason Gym
CATEGORIES:fitness
ATTACH;FMTTYPE=image/png:https://epocaresidents.com/wp-content/uploads/2025/01/epocaresidents.com-events-2.png
END:VEVENT
END:VCALENDAR