BEGIN:VCALENDAR
VERSION:2.0
PRODID:-//Epoca Residents - ECPv6.10.1//NONSGML v1.0//EN
CALSCALE:GREGORIAN
METHOD:PUBLISH
X-WR-CALNAME:Epoca Residents
X-ORIGINAL-URL:https://epocaresidents.com
X-WR-CALDESC:Events for Epoca Residents
REFRESH-INTERVAL;VALUE=DURATION:PT1H
X-Robots-Tag:noindex
X-PUBLISHED-TTL:PT1H
BEGIN:VTIMEZONE
TZID:America/Los_Angeles
BEGIN:DAYLIGHT
TZOFFSETFROM:-0800
TZOFFSETTO:-0700
TZNAME:PDT
DTSTART:20250309T100000
END:DAYLIGHT
BEGIN:STANDARD
TZOFFSETFROM:-0700
TZOFFSETTO:-0800
TZNAME:PST
DTSTART:20251102T090000
END:STANDARD
END:VTIMEZONE
BEGIN:VEVENT
DTSTART;TZID=America/Los_Angeles:20250314T170000
DTEND;TZID=America/Los_Angeles:20250314T190000
DTSTAMP:20260421T144237
CREATED:20250102T211850Z
LAST-MODIFIED:20250204T010216Z
UID:10000368-1741971600-1741978800@epocaresidents.com
SUMMARY:Dog Meet-Up
DESCRIPTION:Join us every Monday\, Wednesday and Friday for a doggie meet-up in the park. Connect with neighbors while your furry friends play.
URL:https://epocaresidents.com/event/dog-meet-up/2025-03-14/
LOCATION:Pop-Up Park
CATEGORIES:dog
ATTACH;FMTTYPE=image/png:https://epocaresidents.com/wp-content/uploads/2025/01/dog-meet-up.png
END:VEVENT
BEGIN:VEVENT
DTSTART;TZID=America/Los_Angeles:20250313T173000
DTEND;TZID=America/Los_Angeles:20250313T181500
DTSTAMP:20260421T144237
CREATED:20250114T180753Z
LAST-MODIFIED:20250430T233413Z
UID:10000381-1741887000-1741889700@epocaresidents.com
SUMMARY:Fitness Fusion
DESCRIPTION:Join us for Fitness Fusion—a free resident workout led by DataFit in the Ironwood Gym! Meet neighbors\, boost your mood\, and get fit with circuit-style training using gym equipment.
URL:https://epocaresidents.com/event/fitness-fusion-thursdays/2025-03-13/
LOCATION:Ironwood Gym
CATEGORIES:fitness
ATTACH;FMTTYPE=image/png:https://epocaresidents.com/wp-content/uploads/2025/01/epocaresidents.com-events-3.png
END:VEVENT
BEGIN:VEVENT
DTSTART;TZID=America/Los_Angeles:20250312T170000
DTEND;TZID=America/Los_Angeles:20250312T190000
DTSTAMP:20260421T144237
CREATED:20250102T211850Z
LAST-MODIFIED:20250204T010216Z
UID:10000367-1741798800-1741806000@epocaresidents.com
SUMMARY:Dog Meet-Up
DESCRIPTION:Join us every Monday\, Wednesday and Friday for a doggie meet-up in the park. Connect with neighbors while your furry friends play.
URL:https://epocaresidents.com/event/dog-meet-up/2025-03-12/
LOCATION:Pop-Up Park
CATEGORIES:dog
ATTACH;FMTTYPE=image/png:https://epocaresidents.com/wp-content/uploads/2025/01/dog-meet-up.png
END:VEVENT
BEGIN:VEVENT
DTSTART;TZID=America/Los_Angeles:20250311T173000
DTEND;TZID=America/Los_Angeles:20250311T181500
DTSTAMP:20260421T144237
CREATED:20250114T180433Z
LAST-MODIFIED:20250430T233351Z
UID:10000376-1741714200-1741716900@epocaresidents.com
SUMMARY:Fitness Fusion
DESCRIPTION:Join us for Fitness Fusion—a free resident workout led by DataFit in the Mason Gym! Meet neighbors\, boost your mood\, and get fit with circuit-style training using gym equipment.
URL:https://epocaresidents.com/event/fitness-fusion-tuesdays/2025-03-11/
LOCATION:Mason Gym
CATEGORIES:fitness
ATTACH;FMTTYPE=image/png:https://epocaresidents.com/wp-content/uploads/2025/01/epocaresidents.com-events-2.png
END:VEVENT
BEGIN:VEVENT
DTSTART;TZID=America/Los_Angeles:20250310T170000
DTEND;TZID=America/Los_Angeles:20250310T190000
DTSTAMP:20260421T144237
CREATED:20250102T211850Z
LAST-MODIFIED:20250204T010216Z
UID:10000366-1741626000-1741633200@epocaresidents.com
SUMMARY:Dog Meet-Up
DESCRIPTION:Join us every Monday\, Wednesday and Friday for a doggie meet-up in the park. Connect with neighbors while your furry friends play.
URL:https://epocaresidents.com/event/dog-meet-up/2025-03-10/
LOCATION:Pop-Up Park
CATEGORIES:dog
ATTACH;FMTTYPE=image/png:https://epocaresidents.com/wp-content/uploads/2025/01/dog-meet-up.png
END:VEVENT
BEGIN:VEVENT
DTSTART;TZID=America/Los_Angeles:20250307T170000
DTEND;TZID=America/Los_Angeles:20250307T190000
DTSTAMP:20260421T144237
CREATED:20250225T014420Z
LAST-MODIFIED:20250304T031915Z
UID:10000386-1741366800-1741374000@epocaresidents.com
SUMMARY:Food Truck Friday: Dirty Birds
DESCRIPTION:Join us for savory chicken wings\, sandwiches and fries from Dirty Birds food truck. Buy dinner in your own community\, entertain the family and meet your neighbors.
URL:https://epocaresidents.com/event/food-truck-friday-dirty-birds-mar-7/
LOCATION:Pop-Up Plaza
CATEGORIES:food truck
ATTACH;FMTTYPE=image/png:https://epocaresidents.com/wp-content/uploads/2024/10/Dirty-Birds-Food-Truck-Fridays.png
END:VEVENT
BEGIN:VEVENT
DTSTART;TZID=America/Los_Angeles:20250307T170000
DTEND;TZID=America/Los_Angeles:20250307T190000
DTSTAMP:20260421T144237
CREATED:20250102T211850Z
LAST-MODIFIED:20250204T010216Z
UID:10000365-1741366800-1741374000@epocaresidents.com
SUMMARY:Dog Meet-Up
DESCRIPTION:Join us every Monday\, Wednesday and Friday for a doggie meet-up in the park. Connect with neighbors while your furry friends play.
URL:https://epocaresidents.com/event/dog-meet-up/2025-03-07/
LOCATION:Pop-Up Park
CATEGORIES:dog
ATTACH;FMTTYPE=image/png:https://epocaresidents.com/wp-content/uploads/2025/01/dog-meet-up.png
END:VEVENT
BEGIN:VEVENT
DTSTART;TZID=America/Los_Angeles:20250306T173000
DTEND;TZID=America/Los_Angeles:20250306T181500
DTSTAMP:20260421T144237
CREATED:20250114T180753Z
LAST-MODIFIED:20250430T233413Z
UID:10000380-1741282200-1741284900@epocaresidents.com
SUMMARY:Fitness Fusion
DESCRIPTION:Join us for Fitness Fusion—a free resident workout led by DataFit in the Ironwood Gym! Meet neighbors\, boost your mood\, and get fit with circuit-style training using gym equipment.
URL:https://epocaresidents.com/event/fitness-fusion-thursdays/2025-03-06/
LOCATION:Ironwood Gym
CATEGORIES:fitness
ATTACH;FMTTYPE=image/png:https://epocaresidents.com/wp-content/uploads/2025/01/epocaresidents.com-events-3.png
END:VEVENT
BEGIN:VEVENT
DTSTART;TZID=America/Los_Angeles:20250305T170000
DTEND;TZID=America/Los_Angeles:20250305T190000
DTSTAMP:20260421T144237
CREATED:20250102T211850Z
LAST-MODIFIED:20250204T010216Z
UID:10000364-1741194000-1741201200@epocaresidents.com
SUMMARY:Dog Meet-Up
DESCRIPTION:Join us every Monday\, Wednesday and Friday for a doggie meet-up in the park. Connect with neighbors while your furry friends play.
URL:https://epocaresidents.com/event/dog-meet-up/2025-03-05/
LOCATION:Pop-Up Park
CATEGORIES:dog
ATTACH;FMTTYPE=image/png:https://epocaresidents.com/wp-content/uploads/2025/01/dog-meet-up.png
END:VEVENT
BEGIN:VEVENT
DTSTART;TZID=America/Los_Angeles:20250304T173000
DTEND;TZID=America/Los_Angeles:20250304T181500
DTSTAMP:20260421T144237
CREATED:20250114T180433Z
LAST-MODIFIED:20250430T233351Z
UID:10000375-1741109400-1741112100@epocaresidents.com
SUMMARY:Fitness Fusion
DESCRIPTION:Join us for Fitness Fusion—a free resident workout led by DataFit in the Mason Gym! Meet neighbors\, boost your mood\, and get fit with circuit-style training using gym equipment.
URL:https://epocaresidents.com/event/fitness-fusion-tuesdays/2025-03-04/
LOCATION:Mason Gym
CATEGORIES:fitness
ATTACH;FMTTYPE=image/png:https://epocaresidents.com/wp-content/uploads/2025/01/epocaresidents.com-events-2.png
END:VEVENT
BEGIN:VEVENT
DTSTART;TZID=America/Los_Angeles:20250303T170000
DTEND;TZID=America/Los_Angeles:20250303T190000
DTSTAMP:20260421T144237
CREATED:20250102T211850Z
LAST-MODIFIED:20250204T010216Z
UID:10000363-1741021200-1741028400@epocaresidents.com
SUMMARY:Dog Meet-Up
DESCRIPTION:Join us every Monday\, Wednesday and Friday for a doggie meet-up in the park. Connect with neighbors while your furry friends play.
URL:https://epocaresidents.com/event/dog-meet-up/2025-03-03/
LOCATION:Pop-Up Park
CATEGORIES:dog
ATTACH;FMTTYPE=image/png:https://epocaresidents.com/wp-content/uploads/2025/01/dog-meet-up.png
END:VEVENT
BEGIN:VEVENT
DTSTART;TZID=America/Los_Angeles:20250228T170000
DTEND;TZID=America/Los_Angeles:20250228T190000
DTSTAMP:20260421T144237
CREATED:20250224T163738Z
LAST-MODIFIED:20250224T175321Z
UID:10000384-1740762000-1740769200@epocaresidents.com
SUMMARY:Food Truck Friday: Dirty Birds
DESCRIPTION:Join us for savory chicken wings\, sandwiches and fries from Dirty Birds food truck. Buy dinner in your own community\, entertain the family and meet your neighbors.
URL:https://epocaresidents.com/event/food-truck-friday-dirty-birds-feb-28/
LOCATION:Pop-Up Plaza
CATEGORIES:food truck
ATTACH;FMTTYPE=image/png:https://epocaresidents.com/wp-content/uploads/2024/10/Dirty-Birds-Food-Truck-Fridays.png
END:VEVENT
BEGIN:VEVENT
DTSTART;TZID=America/Los_Angeles:20250228T170000
DTEND;TZID=America/Los_Angeles:20250228T190000
DTSTAMP:20260421T144237
CREATED:20250102T211850Z
LAST-MODIFIED:20250204T010216Z
UID:10000183-1740762000-1740769200@epocaresidents.com
SUMMARY:Dog Meet-Up
DESCRIPTION:Join us every Monday\, Wednesday and Friday for a doggie meet-up in the park. Connect with neighbors while your furry friends play.
URL:https://epocaresidents.com/event/dog-meet-up/2025-02-28/
LOCATION:Pop-Up Park
CATEGORIES:dog
ATTACH;FMTTYPE=image/png:https://epocaresidents.com/wp-content/uploads/2025/01/dog-meet-up.png
END:VEVENT
BEGIN:VEVENT
DTSTART;TZID=America/Los_Angeles:20250227T173000
DTEND;TZID=America/Los_Angeles:20250227T181500
DTSTAMP:20260421T144237
CREATED:20250114T180753Z
LAST-MODIFIED:20250430T233413Z
UID:10000356-1740677400-1740680100@epocaresidents.com
SUMMARY:Fitness Fusion
DESCRIPTION:Join us for Fitness Fusion—a free resident workout led by DataFit in the Ironwood Gym! Meet neighbors\, boost your mood\, and get fit with circuit-style training using gym equipment.
URL:https://epocaresidents.com/event/fitness-fusion-thursdays/2025-02-27/
LOCATION:Ironwood Gym
CATEGORIES:fitness
ATTACH;FMTTYPE=image/png:https://epocaresidents.com/wp-content/uploads/2025/01/epocaresidents.com-events-3.png
END:VEVENT
BEGIN:VEVENT
DTSTART;TZID=America/Los_Angeles:20250226T170000
DTEND;TZID=America/Los_Angeles:20250226T190000
DTSTAMP:20260421T144237
CREATED:20250102T211850Z
LAST-MODIFIED:20250204T010216Z
UID:10000182-1740589200-1740596400@epocaresidents.com
SUMMARY:Dog Meet-Up
DESCRIPTION:Join us every Monday\, Wednesday and Friday for a doggie meet-up in the park. Connect with neighbors while your furry friends play.
URL:https://epocaresidents.com/event/dog-meet-up/2025-02-26/
LOCATION:Pop-Up Park
CATEGORIES:dog
ATTACH;FMTTYPE=image/png:https://epocaresidents.com/wp-content/uploads/2025/01/dog-meet-up.png
END:VEVENT
BEGIN:VEVENT
DTSTART;TZID=America/Los_Angeles:20250225T173000
DTEND;TZID=America/Los_Angeles:20250225T181500
DTSTAMP:20260421T144237
CREATED:20250114T180433Z
LAST-MODIFIED:20250430T233351Z
UID:10000349-1740504600-1740507300@epocaresidents.com
SUMMARY:Fitness Fusion
DESCRIPTION:Join us for Fitness Fusion—a free resident workout led by DataFit in the Mason Gym! Meet neighbors\, boost your mood\, and get fit with circuit-style training using gym equipment.
URL:https://epocaresidents.com/event/fitness-fusion-tuesdays/2025-02-25/
LOCATION:Mason Gym
CATEGORIES:fitness
ATTACH;FMTTYPE=image/png:https://epocaresidents.com/wp-content/uploads/2025/01/epocaresidents.com-events-2.png
END:VEVENT
BEGIN:VEVENT
DTSTART;TZID=America/Los_Angeles:20250224T170000
DTEND;TZID=America/Los_Angeles:20250224T190000
DTSTAMP:20260421T144237
CREATED:20250102T211850Z
LAST-MODIFIED:20250204T010216Z
UID:10000181-1740416400-1740423600@epocaresidents.com
SUMMARY:Dog Meet-Up
DESCRIPTION:Join us every Monday\, Wednesday and Friday for a doggie meet-up in the park. Connect with neighbors while your furry friends play.
URL:https://epocaresidents.com/event/dog-meet-up/2025-02-24/
LOCATION:Pop-Up Park
CATEGORIES:dog
ATTACH;FMTTYPE=image/png:https://epocaresidents.com/wp-content/uploads/2025/01/dog-meet-up.png
END:VEVENT
BEGIN:VEVENT
DTSTART;TZID=America/Los_Angeles:20250221T170000
DTEND;TZID=America/Los_Angeles:20250221T190000
DTSTAMP:20260421T144237
CREATED:20250130T162002Z
LAST-MODIFIED:20250131T011050Z
UID:10000361-1740157200-1740164400@epocaresidents.com
SUMMARY:Food Truck Friday: Butcher Paper
DESCRIPTION:Enjoy Butcher Paper’s bold flavors featuring The Butcher Burger\, The Wedge\, The Italian Stallion and other fresh menu items. Connect with neighbors and enjoy dinner in your own community.
URL:https://epocaresidents.com/event/food-truck-friday-butcher-paper-feb-21/
LOCATION:Pop-Up Plaza
CATEGORIES:food truck
ATTACH;FMTTYPE=image/png:https://epocaresidents.com/wp-content/uploads/2024/09/Butcher-Paper-Flyer.png
END:VEVENT
BEGIN:VEVENT
DTSTART;TZID=America/Los_Angeles:20250221T170000
DTEND;TZID=America/Los_Angeles:20250221T190000
DTSTAMP:20260421T144237
CREATED:20250102T211850Z
LAST-MODIFIED:20250204T010216Z
UID:10000180-1740157200-1740164400@epocaresidents.com
SUMMARY:Dog Meet-Up
DESCRIPTION:Join us every Monday\, Wednesday and Friday for a doggie meet-up in the park. Connect with neighbors while your furry friends play.
URL:https://epocaresidents.com/event/dog-meet-up/2025-02-21/
LOCATION:Pop-Up Park
CATEGORIES:dog
ATTACH;FMTTYPE=image/png:https://epocaresidents.com/wp-content/uploads/2025/01/dog-meet-up.png
END:VEVENT
BEGIN:VEVENT
DTSTART;TZID=America/Los_Angeles:20250220T173000
DTEND;TZID=America/Los_Angeles:20250220T181500
DTSTAMP:20260421T144237
CREATED:20250114T180753Z
LAST-MODIFIED:20250430T233413Z
UID:10000355-1740072600-1740075300@epocaresidents.com
SUMMARY:Fitness Fusion
DESCRIPTION:Join us for Fitness Fusion—a free resident workout led by DataFit in the Ironwood Gym! Meet neighbors\, boost your mood\, and get fit with circuit-style training using gym equipment.
URL:https://epocaresidents.com/event/fitness-fusion-thursdays/2025-02-20/
LOCATION:Ironwood Gym
CATEGORIES:fitness
ATTACH;FMTTYPE=image/png:https://epocaresidents.com/wp-content/uploads/2025/01/epocaresidents.com-events-3.png
END:VEVENT
BEGIN:VEVENT
DTSTART;TZID=America/Los_Angeles:20250219T170000
DTEND;TZID=America/Los_Angeles:20250219T190000
DTSTAMP:20260421T144237
CREATED:20250102T211850Z
LAST-MODIFIED:20250204T010216Z
UID:10000179-1739984400-1739991600@epocaresidents.com
SUMMARY:Dog Meet-Up
DESCRIPTION:Join us every Monday\, Wednesday and Friday for a doggie meet-up in the park. Connect with neighbors while your furry friends play.
URL:https://epocaresidents.com/event/dog-meet-up/2025-02-19/
LOCATION:Pop-Up Park
CATEGORIES:dog
ATTACH;FMTTYPE=image/png:https://epocaresidents.com/wp-content/uploads/2025/01/dog-meet-up.png
END:VEVENT
BEGIN:VEVENT
DTSTART;TZID=America/Los_Angeles:20250218T173000
DTEND;TZID=America/Los_Angeles:20250218T181500
DTSTAMP:20260421T144237
CREATED:20250114T180433Z
LAST-MODIFIED:20250430T233351Z
UID:10000348-1739899800-1739902500@epocaresidents.com
SUMMARY:Fitness Fusion
DESCRIPTION:Join us for Fitness Fusion—a free resident workout led by DataFit in the Mason Gym! Meet neighbors\, boost your mood\, and get fit with circuit-style training using gym equipment.
URL:https://epocaresidents.com/event/fitness-fusion-tuesdays/2025-02-18/
LOCATION:Mason Gym
CATEGORIES:fitness
ATTACH;FMTTYPE=image/png:https://epocaresidents.com/wp-content/uploads/2025/01/epocaresidents.com-events-2.png
END:VEVENT
BEGIN:VEVENT
DTSTART;TZID=America/Los_Angeles:20250217T170000
DTEND;TZID=America/Los_Angeles:20250217T190000
DTSTAMP:20260421T144237
CREATED:20250102T211850Z
LAST-MODIFIED:20250204T010216Z
UID:10000178-1739811600-1739818800@epocaresidents.com
SUMMARY:Dog Meet-Up
DESCRIPTION:Join us every Monday\, Wednesday and Friday for a doggie meet-up in the park. Connect with neighbors while your furry friends play.
URL:https://epocaresidents.com/event/dog-meet-up/2025-02-17/
LOCATION:Pop-Up Park
CATEGORIES:dog
ATTACH;FMTTYPE=image/png:https://epocaresidents.com/wp-content/uploads/2025/01/dog-meet-up.png
END:VEVENT
BEGIN:VEVENT
DTSTART;TZID=America/Los_Angeles:20250214T170000
DTEND;TZID=America/Los_Angeles:20250214T190000
DTSTAMP:20260421T144237
CREATED:20250130T161759Z
LAST-MODIFIED:20250131T011120Z
UID:10000360-1739552400-1739559600@epocaresidents.com
SUMMARY:Food Truck Friday: El Guero 2
DESCRIPTION:Come on out for creative cuisine from El Guero 2. Enjoy fresh Mexican favorites from tasty tacos to spicy seafood\, relax in our beautiful park and meet your neighbors.
URL:https://epocaresidents.com/event/food-truck-friday-el-guero-feb-14/
LOCATION:Pop-Up Plaza
CATEGORIES:food truck
ATTACH;FMTTYPE=image/png:https://epocaresidents.com/wp-content/uploads/2024/11/El-Guero-2.png
END:VEVENT
BEGIN:VEVENT
DTSTART;TZID=America/Los_Angeles:20250214T170000
DTEND;TZID=America/Los_Angeles:20250214T190000
DTSTAMP:20260421T144237
CREATED:20250102T211850Z
LAST-MODIFIED:20250204T010216Z
UID:10000177-1739552400-1739559600@epocaresidents.com
SUMMARY:Dog Meet-Up
DESCRIPTION:Join us every Monday\, Wednesday and Friday for a doggie meet-up in the park. Connect with neighbors while your furry friends play.
URL:https://epocaresidents.com/event/dog-meet-up/2025-02-14/
LOCATION:Pop-Up Park
CATEGORIES:dog
ATTACH;FMTTYPE=image/png:https://epocaresidents.com/wp-content/uploads/2025/01/dog-meet-up.png
END:VEVENT
BEGIN:VEVENT
DTSTART;TZID=America/Los_Angeles:20250213T173000
DTEND;TZID=America/Los_Angeles:20250213T181500
DTSTAMP:20260421T144237
CREATED:20250114T180753Z
LAST-MODIFIED:20250430T233413Z
UID:10000354-1739467800-1739470500@epocaresidents.com
SUMMARY:Fitness Fusion
DESCRIPTION:Join us for Fitness Fusion—a free resident workout led by DataFit in the Ironwood Gym! Meet neighbors\, boost your mood\, and get fit with circuit-style training using gym equipment.
URL:https://epocaresidents.com/event/fitness-fusion-thursdays/2025-02-13/
LOCATION:Ironwood Gym
CATEGORIES:fitness
ATTACH;FMTTYPE=image/png:https://epocaresidents.com/wp-content/uploads/2025/01/epocaresidents.com-events-3.png
END:VEVENT
BEGIN:VEVENT
DTSTART;TZID=America/Los_Angeles:20250212T170000
DTEND;TZID=America/Los_Angeles:20250212T190000
DTSTAMP:20260421T144237
CREATED:20250102T211850Z
LAST-MODIFIED:20250204T010216Z
UID:10000176-1739379600-1739386800@epocaresidents.com
SUMMARY:Dog Meet-Up
DESCRIPTION:Join us every Monday\, Wednesday and Friday for a doggie meet-up in the park. Connect with neighbors while your furry friends play.
URL:https://epocaresidents.com/event/dog-meet-up/2025-02-12/
LOCATION:Pop-Up Park
CATEGORIES:dog
ATTACH;FMTTYPE=image/png:https://epocaresidents.com/wp-content/uploads/2025/01/dog-meet-up.png
END:VEVENT
BEGIN:VEVENT
DTSTART;TZID=America/Los_Angeles:20250211T173000
DTEND;TZID=America/Los_Angeles:20250211T181500
DTSTAMP:20260421T144237
CREATED:20250114T180433Z
LAST-MODIFIED:20250430T233351Z
UID:10000347-1739295000-1739297700@epocaresidents.com
SUMMARY:Fitness Fusion
DESCRIPTION:Join us for Fitness Fusion—a free resident workout led by DataFit in the Mason Gym! Meet neighbors\, boost your mood\, and get fit with circuit-style training using gym equipment.
URL:https://epocaresidents.com/event/fitness-fusion-tuesdays/2025-02-11/
LOCATION:Mason Gym
CATEGORIES:fitness
ATTACH;FMTTYPE=image/png:https://epocaresidents.com/wp-content/uploads/2025/01/epocaresidents.com-events-2.png
END:VEVENT
BEGIN:VEVENT
DTSTART;TZID=America/Los_Angeles:20250210T170000
DTEND;TZID=America/Los_Angeles:20250210T190000
DTSTAMP:20260421T144237
CREATED:20250102T211850Z
LAST-MODIFIED:20250204T010216Z
UID:10000175-1739206800-1739214000@epocaresidents.com
SUMMARY:Dog Meet-Up
DESCRIPTION:Join us every Monday\, Wednesday and Friday for a doggie meet-up in the park. Connect with neighbors while your furry friends play.
URL:https://epocaresidents.com/event/dog-meet-up/2025-02-10/
LOCATION:Pop-Up Park
CATEGORIES:dog
ATTACH;FMTTYPE=image/png:https://epocaresidents.com/wp-content/uploads/2025/01/dog-meet-up.png
END:VEVENT
BEGIN:VEVENT
DTSTART;TZID=America/Los_Angeles:20250207T170000
DTEND;TZID=America/Los_Angeles:20250207T190000
DTSTAMP:20260421T144237
CREATED:20250123T034350Z
LAST-MODIFIED:20250131T010823Z
UID:10000359-1738947600-1738954800@epocaresidents.com
SUMMARY:Food Truck Friday: Dirty Birds
DESCRIPTION:Join us for savory chicken wings\, sandwiches and fries from Dirty Birds food truck. Buy dinner in your own community\, entertain the family and meet your neighbors.
URL:https://epocaresidents.com/event/food-truck-friday-dirty-birds-feb-7/
LOCATION:Pop-Up Plaza
CATEGORIES:food truck
ATTACH;FMTTYPE=image/png:https://epocaresidents.com/wp-content/uploads/2024/10/Dirty-Birds-Food-Truck-Fridays.png
END:VEVENT
END:VCALENDAR