BEGIN:VCALENDAR
VERSION:2.0
PRODID:-//Epoca Residents - ECPv6.10.1//NONSGML v1.0//EN
CALSCALE:GREGORIAN
METHOD:PUBLISH
X-WR-CALNAME:Epoca Residents
X-ORIGINAL-URL:https://epocaresidents.com
X-WR-CALDESC:Events for Epoca Residents
REFRESH-INTERVAL;VALUE=DURATION:PT1H
X-Robots-Tag:noindex
X-PUBLISHED-TTL:PT1H
BEGIN:VTIMEZONE
TZID:America/Los_Angeles
BEGIN:DAYLIGHT
TZOFFSETFROM:-0800
TZOFFSETTO:-0700
TZNAME:PDT
DTSTART:20240310T100000
END:DAYLIGHT
BEGIN:STANDARD
TZOFFSETFROM:-0700
TZOFFSETTO:-0800
TZNAME:PST
DTSTART:20241103T090000
END:STANDARD
END:VTIMEZONE
BEGIN:VEVENT
DTSTART;TZID=America/Los_Angeles:20240702T163000
DTEND;TZID=America/Los_Angeles:20240702T171500
DTSTAMP:20260424T092303
CREATED:20240502T022607Z
LAST-MODIFIED:20241115T014819Z
UID:10000098-1719937800-1719940500@epocaresidents.com
SUMMARY:Yoga in the Park
DESCRIPTION:Join Yoga in the Park at Epoca’s Pop-Up Plaza (southwest corner of Epoca and Secano). Channel your inner yogi\, enhance your flexibility and connect with fellow residents. All skill levels are welcome!
URL:https://epocaresidents.com/event/yoga-class/2024-07-02/
LOCATION:Pop-Up Plaza Grass Area
CATEGORIES:yoga
ATTACH;FMTTYPE=image/png:https://epocaresidents.com/wp-content/uploads/2024/05/Epoca-Yoga-in-the-Park.png
END:VEVENT
BEGIN:VEVENT
DTSTART;TZID=America/Los_Angeles:20240705T170000
DTEND;TZID=America/Los_Angeles:20240705T190000
DTSTAMP:20260424T092303
CREATED:20240701T224254Z
LAST-MODIFIED:20240701T224254Z
UID:10000022-1720198800-1720206000@epocaresidents.com
SUMMARY:Food Truck Friday: Dirty Birds
DESCRIPTION:Join us for savory chicken wings\, sandwiches and fries from Dirty Birds food truck. Buy dinner in your own Epoca community\, meet your neighbors and enjoy our beautiful park setting.
URL:https://epocaresidents.com/event/food-truck-friday-dirty-birds-2/
LOCATION:Pop-Up Plaza
CATEGORIES:food truck
ATTACH;FMTTYPE=image/png:https://epocaresidents.com/wp-content/uploads/2024/07/Dirty-Birds-Flyer.png
END:VEVENT
BEGIN:VEVENT
DTSTART;TZID=America/Los_Angeles:20240709T163000
DTEND;TZID=America/Los_Angeles:20240709T171500
DTSTAMP:20260424T092303
CREATED:20240502T022607Z
LAST-MODIFIED:20241115T014819Z
UID:10000099-1720542600-1720545300@epocaresidents.com
SUMMARY:Yoga in the Park
DESCRIPTION:Join Yoga in the Park at Epoca’s Pop-Up Plaza (southwest corner of Epoca and Secano). Channel your inner yogi\, enhance your flexibility and connect with fellow residents. All skill levels are welcome!
URL:https://epocaresidents.com/event/yoga-class/2024-07-09/
LOCATION:Pop-Up Plaza Grass Area
CATEGORIES:yoga
ATTACH;FMTTYPE=image/png:https://epocaresidents.com/wp-content/uploads/2024/05/Epoca-Yoga-in-the-Park.png
END:VEVENT
BEGIN:VEVENT
DTSTART;TZID=America/Los_Angeles:20240712T170000
DTEND;TZID=America/Los_Angeles:20240712T190000
DTSTAMP:20260424T092303
CREATED:20240709T182607Z
LAST-MODIFIED:20240709T182607Z
UID:10000023-1720803600-1720810800@epocaresidents.com
SUMMARY:Food Truck Friday: Bluez Grill
DESCRIPTION:Join us for savory smashed burgers\, street dogs and more from Bluez Grill food truck. Buy dinner in your own Epoca community\, meet your neighbors and enjoy our beautiful park setting.
URL:https://epocaresidents.com/event/food-truck-friday-bluez-grill/
LOCATION:Pop-Up Plaza
CATEGORIES:food truck
ATTACH;FMTTYPE=image/png:https://epocaresidents.com/wp-content/uploads/2024/07/Bluez-Grill-Flyer.png
END:VEVENT
BEGIN:VEVENT
DTSTART;TZID=America/Los_Angeles:20240716T163000
DTEND;TZID=America/Los_Angeles:20240716T171500
DTSTAMP:20260424T092303
CREATED:20240502T022607Z
LAST-MODIFIED:20241115T014819Z
UID:10000100-1721147400-1721150100@epocaresidents.com
SUMMARY:Yoga in the Park
DESCRIPTION:Join Yoga in the Park at Epoca’s Pop-Up Plaza (southwest corner of Epoca and Secano). Channel your inner yogi\, enhance your flexibility and connect with fellow residents. All skill levels are welcome!
URL:https://epocaresidents.com/event/yoga-class/2024-07-16/
LOCATION:Pop-Up Plaza Grass Area
CATEGORIES:yoga
ATTACH;FMTTYPE=image/png:https://epocaresidents.com/wp-content/uploads/2024/05/Epoca-Yoga-in-the-Park.png
END:VEVENT
BEGIN:VEVENT
DTSTART;TZID=America/Los_Angeles:20240719T170000
DTEND;TZID=America/Los_Angeles:20240719T190000
DTSTAMP:20260424T092303
CREATED:20240716T164803Z
LAST-MODIFIED:20240716T164803Z
UID:10000024-1721408400-1721415600@epocaresidents.com
SUMMARY:Food Truck Friday: Zoe’s Place Food Truck
DESCRIPTION:Save yourself a drive to a nearby restaurant and buy dinner right here at Epoca. Join us at Pop-Up Plaza for fresh tacos\, seafood and other Mexican favorites from Z’s Buddies food truck. Meet your neighbors\, entertain the kids and enjoy our beautiful outdoor setting.
URL:https://epocaresidents.com/event/food-truck-friday-zoes-place-food-truck/
LOCATION:Pop-Up Plaza
CATEGORIES:food truck
ATTACH;FMTTYPE=image/png:https://epocaresidents.com/wp-content/uploads/2024/07/Zoes-Place-Flyer.png
END:VEVENT
BEGIN:VEVENT
DTSTART;TZID=America/Los_Angeles:20240723T163000
DTEND;TZID=America/Los_Angeles:20240723T171500
DTSTAMP:20260424T092303
CREATED:20240502T022607Z
LAST-MODIFIED:20241115T014819Z
UID:10000101-1721752200-1721754900@epocaresidents.com
SUMMARY:Yoga in the Park
DESCRIPTION:Join Yoga in the Park at Epoca’s Pop-Up Plaza (southwest corner of Epoca and Secano). Channel your inner yogi\, enhance your flexibility and connect with fellow residents. All skill levels are welcome!
URL:https://epocaresidents.com/event/yoga-class/2024-07-23/
LOCATION:Pop-Up Plaza Grass Area
CATEGORIES:yoga
ATTACH;FMTTYPE=image/png:https://epocaresidents.com/wp-content/uploads/2024/05/Epoca-Yoga-in-the-Park.png
END:VEVENT
BEGIN:VEVENT
DTSTART;TZID=America/Los_Angeles:20240726T183000
DTEND;TZID=America/Los_Angeles:20240726T210000
DTSTAMP:20260424T092303
CREATED:20240517T231814Z
LAST-MODIFIED:20240521T225550Z
UID:10000006-1722018600-1722027600@epocaresidents.com
SUMMARY:Summer Concert: Luke Metzler & Band
DESCRIPTION:Details: Join your Epoca neighbors at the Pop-Up Plaza for a summer concert in the park featuring Luke Metzler\, local food & dessert trucks\, face painting for the kids\, and outdoor games like cornhole & ping pong. Be sure to bring your own chair or picnic blanket to enjoy the show!
URL:https://epocaresidents.com/event/summer-concert-series-3/
ATTACH;FMTTYPE=image/png:https://epocaresidents.com/wp-content/uploads/2024/05/July-Concert-Luke-Metzler.png
END:VEVENT
BEGIN:VEVENT
DTSTART;TZID=America/Los_Angeles:20240730T163000
DTEND;TZID=America/Los_Angeles:20240730T171500
DTSTAMP:20260424T092303
CREATED:20240502T022607Z
LAST-MODIFIED:20241115T014819Z
UID:10000102-1722357000-1722359700@epocaresidents.com
SUMMARY:Yoga in the Park
DESCRIPTION:Join Yoga in the Park at Epoca’s Pop-Up Plaza (southwest corner of Epoca and Secano). Channel your inner yogi\, enhance your flexibility and connect with fellow residents. All skill levels are welcome!
URL:https://epocaresidents.com/event/yoga-class/2024-07-30/
LOCATION:Pop-Up Plaza Grass Area
CATEGORIES:yoga
ATTACH;FMTTYPE=image/png:https://epocaresidents.com/wp-content/uploads/2024/05/Epoca-Yoga-in-the-Park.png
END:VEVENT
END:VCALENDAR