BEGIN:VCALENDAR
VERSION:2.0
PRODID:-//Epoca Residents - ECPv6.10.1//NONSGML v1.0//EN
CALSCALE:GREGORIAN
METHOD:PUBLISH
X-ORIGINAL-URL:https://epocaresidents.com
X-WR-CALDESC:Events for Epoca Residents
REFRESH-INTERVAL;VALUE=DURATION:PT1H
X-Robots-Tag:noindex
X-PUBLISHED-TTL:PT1H
BEGIN:VTIMEZONE
TZID:America/Los_Angeles
BEGIN:DAYLIGHT
TZOFFSETFROM:-0800
TZOFFSETTO:-0700
TZNAME:PDT
DTSTART:20240310T100000
END:DAYLIGHT
BEGIN:STANDARD
TZOFFSETFROM:-0700
TZOFFSETTO:-0800
TZNAME:PST
DTSTART:20241103T090000
END:STANDARD
END:VTIMEZONE
BEGIN:VEVENT
DTSTART;TZID=America/Los_Angeles:20240802T170000
DTEND;TZID=America/Los_Angeles:20240802T190000
DTSTAMP:20260424T075257
CREATED:20240722T211718Z
LAST-MODIFIED:20240730T232300Z
UID:10000026-1722618000-1722625200@epocaresidents.com
SUMMARY:Food Truck Friday: Bluez Grill
DESCRIPTION:Join us for savory smashed burgers\, street dogs and more from Bluez Grill food truck. Buy dinner in your own Epoca community\, meet your neighbors and enjoy our beautiful park setting.
URL:https://epocaresidents.com/event/food-truck-friday-bluez-grill-2/
LOCATION:Pop-Up Plaza
CATEGORIES:food truck
ATTACH;FMTTYPE=image/jpeg:https://epocaresidents.com/wp-content/uploads/2024/07/Bluez-Grill-Flyer.jpeg
END:VEVENT
BEGIN:VEVENT
DTSTART;TZID=America/Los_Angeles:20240803T113000
DTEND;TZID=America/Los_Angeles:20240803T143000
DTSTAMP:20260424T075257
CREATED:20240802T175602Z
LAST-MODIFIED:20240802T175602Z
UID:10000029-1722684600-1722695400@epocaresidents.com
SUMMARY:Food Truck Saturday: BBQ House Mediterranean Cuisine
DESCRIPTION:Grab a Mediterranean-inspired lunch from chicken shawarma to beef kebabs on August 3 at Epoca. Located at the Ironwood Leasing Office parking lot\, enjoy Mediterranean-style street food\, entertain the family and meet your neighbors.
URL:https://epocaresidents.com/event/food-truck-saturday-bbq-house-mediterranean-cuisine/
LOCATION:Ironwood Leasing Office Parking Lot
CATEGORIES:food truck
ATTACH;FMTTYPE=image/png:https://epocaresidents.com/wp-content/uploads/2024/08/BBQ-House-Mediterranean-Cuisine.png
END:VEVENT
BEGIN:VEVENT
DTSTART;TZID=America/Los_Angeles:20240804T113000
DTEND;TZID=America/Los_Angeles:20240804T143000
DTSTAMP:20260424T075257
CREATED:20240725T175400Z
LAST-MODIFIED:20240725T175400Z
UID:10000028-1722771000-1722781800@epocaresidents.com
SUMMARY:Food Truck Sunday: Born in Brooklyn
DESCRIPTION:Savor comfort food favorites right here in your Epoca community on August 4 at the Ironwood Leasing Office parking lot. From Philly fries to blue cheese burgers and New York-style hot dogs\, Born In Brooklyn has lots of options available for purchase. Meet your neighbors and enjoy a peaceful afternoon at Epoca.
URL:https://epocaresidents.com/event/food-truck-sunday-born-in-brooklyn/
LOCATION:Ironwood Leasing Office Parking Lot
CATEGORIES:food truck
ATTACH;FMTTYPE=image/jpeg:https://epocaresidents.com/wp-content/uploads/2024/07/Born-in-Brooklyn-August-4th.jpg
END:VEVENT
BEGIN:VEVENT
DTSTART;TZID=America/Los_Angeles:20240806T163000
DTEND;TZID=America/Los_Angeles:20240806T171500
DTSTAMP:20260424T075257
CREATED:20240502T022607Z
LAST-MODIFIED:20241115T014819Z
UID:10000103-1722961800-1722964500@epocaresidents.com
SUMMARY:Yoga in the Park
DESCRIPTION:Join Yoga in the Park at Epoca’s Pop-Up Plaza (southwest corner of Epoca and Secano). Channel your inner yogi\, enhance your flexibility and connect with fellow residents. All skill levels are welcome!
URL:https://epocaresidents.com/event/yoga-class/2024-08-06/
LOCATION:Pop-Up Plaza Grass Area
CATEGORIES:yoga
ATTACH;FMTTYPE=image/png:https://epocaresidents.com/wp-content/uploads/2024/05/Epoca-Yoga-in-the-Park.png
END:VEVENT
BEGIN:VEVENT
DTSTART;TZID=America/Los_Angeles:20240809T170000
DTEND;TZID=America/Los_Angeles:20240809T190000
DTSTAMP:20260424T075257
CREATED:20240716T164931Z
LAST-MODIFIED:20240730T232357Z
UID:10000025-1723222800-1723230000@epocaresidents.com
SUMMARY:Food Truck Friday: Z’s Buddies
DESCRIPTION:Save yourself a drive to a nearby restaurant and buy dinner right here at Epoca. Join us at Pop-Up Plaza for Japanese fusion cuisine\, including sushi and ramen\, from Z’s Buddies food truck. Meet your neighbors\, entertain the kids and enjoy our beautiful outdoor setting.
URL:https://epocaresidents.com/event/food-truck-friday-zs-buddies-2/
LOCATION:Pop-Up Plaza
CATEGORIES:food truck
ATTACH;FMTTYPE=image/jpeg:https://epocaresidents.com/wp-content/uploads/2024/07/Zs-Buddies-Flyer.jpeg
END:VEVENT
BEGIN:VEVENT
DTSTART;TZID=America/Los_Angeles:20240813T163000
DTEND;TZID=America/Los_Angeles:20240813T171500
DTSTAMP:20260424T075257
CREATED:20240502T022607Z
LAST-MODIFIED:20241115T014819Z
UID:10000104-1723566600-1723569300@epocaresidents.com
SUMMARY:Yoga in the Park
DESCRIPTION:Join Yoga in the Park at Epoca’s Pop-Up Plaza (southwest corner of Epoca and Secano). Channel your inner yogi\, enhance your flexibility and connect with fellow residents. All skill levels are welcome!
URL:https://epocaresidents.com/event/yoga-class/2024-08-13/
LOCATION:Pop-Up Plaza Grass Area
CATEGORIES:yoga
ATTACH;FMTTYPE=image/png:https://epocaresidents.com/wp-content/uploads/2024/05/Epoca-Yoga-in-the-Park.png
END:VEVENT
BEGIN:VEVENT
DTSTART;TZID=America/Los_Angeles:20240816T170000
DTEND;TZID=America/Los_Angeles:20240816T190000
DTSTAMP:20260424T075257
CREATED:20240805T161003Z
LAST-MODIFIED:20240805T161003Z
UID:10000030-1723827600-1723834800@epocaresidents.com
SUMMARY:Food Truck Friday: Dirty Birds
DESCRIPTION:Don’t miss Dirty Birds food truck right here in your own Epoca neighborhood. Purchase a fun meal\, from chicken wings to savory sandwiches\, entertain the family and enjoy the warm summer nights.
URL:https://epocaresidents.com/event/food-truck-friday-dirty-birds-3/
LOCATION:Pop-Up Plaza
CATEGORIES:food truck
ATTACH;FMTTYPE=image/png:https://epocaresidents.com/wp-content/uploads/2024/08/Dirty-Birds-August-16-Flyer.png
END:VEVENT
BEGIN:VEVENT
DTSTART;TZID=America/Los_Angeles:20240820T163000
DTEND;TZID=America/Los_Angeles:20240820T171500
DTSTAMP:20260424T075257
CREATED:20240502T022607Z
LAST-MODIFIED:20241115T014819Z
UID:10000105-1724171400-1724174100@epocaresidents.com
SUMMARY:Yoga in the Park
DESCRIPTION:Join Yoga in the Park at Epoca’s Pop-Up Plaza (southwest corner of Epoca and Secano). Channel your inner yogi\, enhance your flexibility and connect with fellow residents. All skill levels are welcome!
URL:https://epocaresidents.com/event/yoga-class/2024-08-20/
LOCATION:Pop-Up Plaza Grass Area
CATEGORIES:yoga
ATTACH;FMTTYPE=image/png:https://epocaresidents.com/wp-content/uploads/2024/05/Epoca-Yoga-in-the-Park.png
END:VEVENT
BEGIN:VEVENT
DTSTART;TZID=America/Los_Angeles:20240823T170000
DTEND;TZID=America/Los_Angeles:20240823T190000
DTSTAMP:20260424T075257
CREATED:20240820T174243Z
LAST-MODIFIED:20240820T174243Z
UID:10000041-1724432400-1724439600@epocaresidents.com
SUMMARY:Food Truck Friday: Zoe's Place
DESCRIPTION:Save yourself a drive to a nearby restaurant and grab fresh tacos\, seafood and other Mexican favorites from Zoe’s Place food truck. Meet your neighbors\, entertain the kids and enjoy our beautiful outdoor setting.
URL:https://epocaresidents.com/event/food-truck-friday-zoes-place-2/
LOCATION:Pop-Up Plaza
CATEGORIES:food truck
ATTACH;FMTTYPE=image/png:https://epocaresidents.com/wp-content/uploads/2024/08/Zoes-Place-Aug-23.png
END:VEVENT
BEGIN:VEVENT
DTSTART;TZID=America/Los_Angeles:20240824T070000
DTEND;TZID=America/Los_Angeles:20240824T100000
DTSTAMP:20260424T075257
CREATED:20240820T024655Z
LAST-MODIFIED:20240820T024655Z
UID:10000039-1724482800-1724493600@epocaresidents.com
SUMMARY:Loko Bean Coffee Truck
DESCRIPTION:Join us for handcrafted coffee drinks from Loko Bean Coffee Truck this Saturday at Pop-Up Plaza. The first 25 visitors receive a free coffee. Sign up for event notifications to get your free pup-cup!
URL:https://epocaresidents.com/event/loko-bean-coffee-truck/
LOCATION:Pop-Up Plaza
CATEGORIES:coffee truck
ATTACH;FMTTYPE=image/png:https://epocaresidents.com/wp-content/uploads/2024/08/Loko-Bean-for-resident-page.png
END:VEVENT
BEGIN:VEVENT
DTSTART;TZID=America/Los_Angeles:20240827T163000
DTEND;TZID=America/Los_Angeles:20240827T171500
DTSTAMP:20260424T075257
CREATED:20240502T022607Z
LAST-MODIFIED:20241115T014819Z
UID:10000106-1724776200-1724778900@epocaresidents.com
SUMMARY:Yoga in the Park
DESCRIPTION:Join Yoga in the Park at Epoca’s Pop-Up Plaza (southwest corner of Epoca and Secano). Channel your inner yogi\, enhance your flexibility and connect with fellow residents. All skill levels are welcome!
URL:https://epocaresidents.com/event/yoga-class/2024-08-27/
LOCATION:Pop-Up Plaza Grass Area
CATEGORIES:yoga
ATTACH;FMTTYPE=image/png:https://epocaresidents.com/wp-content/uploads/2024/05/Epoca-Yoga-in-the-Park.png
END:VEVENT
BEGIN:VEVENT
DTSTART;TZID=America/Los_Angeles:20240830T170000
DTEND;TZID=America/Los_Angeles:20240830T190000
DTSTAMP:20260424T075257
CREATED:20240820T164006Z
LAST-MODIFIED:20240820T164006Z
UID:10000040-1725037200-1725044400@epocaresidents.com
SUMMARY:Food Truck Friday: Bluez Grill
DESCRIPTION:Buy dinner right here at Epoca. Join us for savory smashed burgers\, street dogs and more from Bluez Grill food truck. Savor our incredible summer nights and peaceful park setting with friends and family.
URL:https://epocaresidents.com/event/food-truck-friday-bluez-grill-3/
LOCATION:Pop-Up Plaza
CATEGORIES:food truck
ATTACH;FMTTYPE=image/jpeg:https://epocaresidents.com/wp-content/uploads/2024/08/Bluez-Grill-August-30.jpeg
END:VEVENT
BEGIN:VEVENT
DTSTART;TZID=America/Los_Angeles:20240831T073000
DTEND;TZID=America/Los_Angeles:20240831T103000
DTSTAMP:20260424T075257
CREATED:20240829T154118Z
LAST-MODIFIED:20240829T154118Z
UID:10000046-1725089400-1725100200@epocaresidents.com
SUMMARY:The Rush Coffee Truck
DESCRIPTION:Join us for locally roasted\, handcrafted coffee and espresso drinks on Saturday at Pop-Up Plaza from our visiting coffee truck.
URL:https://epocaresidents.com/event/the-rush-coffee-truck/
LOCATION:Pop-Up Plaza
CATEGORIES:coffee truck
ATTACH;FMTTYPE=image/png:https://epocaresidents.com/wp-content/uploads/2024/08/rush-coffee-august-31.png
END:VEVENT
END:VCALENDAR