BEGIN:VCALENDAR
VERSION:2.0
PRODID:-//Epoca Residents - ECPv6.10.1//NONSGML v1.0//EN
CALSCALE:GREGORIAN
METHOD:PUBLISH
X-WR-CALNAME:Epoca Residents
X-ORIGINAL-URL:https://epocaresidents.com
X-WR-CALDESC:Events for Epoca Residents
REFRESH-INTERVAL;VALUE=DURATION:PT1H
X-Robots-Tag:noindex
X-PUBLISHED-TTL:PT1H
BEGIN:VTIMEZONE
TZID:America/Los_Angeles
BEGIN:DAYLIGHT
TZOFFSETFROM:-0800
TZOFFSETTO:-0700
TZNAME:PDT
DTSTART:20250309T100000
END:DAYLIGHT
BEGIN:STANDARD
TZOFFSETFROM:-0700
TZOFFSETTO:-0800
TZNAME:PST
DTSTART:20251102T090000
END:STANDARD
END:VTIMEZONE
BEGIN:VEVENT
DTSTART;TZID=America/Los_Angeles:20251206T163000
DTEND;TZID=America/Los_Angeles:20251206T200000
DTSTAMP:20260420T183309
CREATED:20250717T204203Z
LAST-MODIFIED:20250929T192936Z
UID:10000441-1765038600-1765051200@epocaresidents.com
SUMMARY:Holiday Party
DESCRIPTION:Join us at the Pop-Up Park for live music\, free photos with Santa\, and cozy fire pits! More details coming soon!
URL:https://epocaresidents.com/event/holiday-party/
LOCATION:Pop-Up Park
ATTACH;FMTTYPE=image/png:https://epocaresidents.com/wp-content/uploads/2025/07/Resident-E-Blast-Photo-23.png
END:VEVENT
BEGIN:VEVENT
DTSTART;TZID=America/Los_Angeles:20251212T170000
DTEND;TZID=America/Los_Angeles:20251212T200000
DTSTAMP:20260420T183309
CREATED:20251022T153645Z
LAST-MODIFIED:20251022T184229Z
UID:10000467-1765558800-1765569600@epocaresidents.com
SUMMARY:Friday Night Bites
DESCRIPTION:Join us for some Friday Night Bites here at Epoca! Average Joes Burgers food truck will be serving up delicious eats\, and we can’t wait to spend a fun evening together at the park.
URL:https://epocaresidents.com/event/friday-night-bites-2/
LOCATION:Food Truck Alley
CATEGORIES:food truck
ATTACH;FMTTYPE=image/png:https://epocaresidents.com/wp-content/uploads/2025/10/Resident-E-Blast-Photo-30.png
GEO:32.55815;-116.99203
END:VEVENT
END:VCALENDAR