BEGIN:VCALENDAR
VERSION:2.0
PRODID:-//Epoca Residents - ECPv6.10.1//NONSGML v1.0//EN
CALSCALE:GREGORIAN
METHOD:PUBLISH
X-WR-CALNAME:Epoca Residents
X-ORIGINAL-URL:https://epocaresidents.com
X-WR-CALDESC:Events for Epoca Residents
REFRESH-INTERVAL;VALUE=DURATION:PT1H
X-Robots-Tag:noindex
X-PUBLISHED-TTL:PT1H
BEGIN:VTIMEZONE
TZID:America/Los_Angeles
BEGIN:DAYLIGHT
TZOFFSETFROM:-0800
TZOFFSETTO:-0700
TZNAME:PDT
DTSTART:20240310T100000
END:DAYLIGHT
BEGIN:STANDARD
TZOFFSETFROM:-0700
TZOFFSETTO:-0800
TZNAME:PST
DTSTART:20241103T090000
END:STANDARD
END:VTIMEZONE
BEGIN:VEVENT
DTSTART;TZID=America/Los_Angeles:20240628T183000
DTEND;TZID=America/Los_Angeles:20240628T210000
DTSTAMP:20260423T210139
CREATED:20240509T040350Z
LAST-MODIFIED:20240521T225755Z
UID:10000005-1719599400-1719608400@epocaresidents.com
SUMMARY:Summer Concert: Saint Luna
DESCRIPTION:Details: Join your Epoca neighbors at the Pop-Up Plaza for a summer concert in the park featuring indie-rock tunes by Saint Luna\, local food & dessert trucks\, face painting for the kids\, and outdoor games like cornhole & ping pong. Be sure to bring your own chair or picnic blanket! \nRSVP: https://epocajuneconcert.rsvpify.com
URL:https://epocaresidents.com/event/summer-concert-series-2/
ATTACH;FMTTYPE=image/png:https://epocaresidents.com/wp-content/uploads/2024/05/June-Concert-Saint-Luna.png
END:VEVENT
END:VCALENDAR