BEGIN:VCALENDAR
VERSION:2.0
PRODID:-//Epoca Residents - ECPv6.10.1//NONSGML v1.0//EN
CALSCALE:GREGORIAN
METHOD:PUBLISH
X-ORIGINAL-URL:https://epocaresidents.com
X-WR-CALDESC:Events for Epoca Residents
REFRESH-INTERVAL;VALUE=DURATION:PT1H
X-Robots-Tag:noindex
X-PUBLISHED-TTL:PT1H
BEGIN:VTIMEZONE
TZID:America/Los_Angeles
BEGIN:DAYLIGHT
TZOFFSETFROM:-0800
TZOFFSETTO:-0700
TZNAME:PDT
DTSTART:20240310T100000
END:DAYLIGHT
BEGIN:STANDARD
TZOFFSETFROM:-0700
TZOFFSETTO:-0800
TZNAME:PST
DTSTART:20241103T090000
END:STANDARD
END:VTIMEZONE
BEGIN:VEVENT
DTSTART;TZID=America/Los_Angeles:20241113T163000
DTEND;TZID=America/Los_Angeles:20241113T183000
DTSTAMP:20260420T171433
CREATED:20241104T002652Z
LAST-MODIFIED:20241108T005841Z
UID:10000089-1731515400-1731522600@epocaresidents.com
SUMMARY:Letters to Our Heroes
DESCRIPTION:Join us for Letters to Our Heroes\, an event for all ages to support our troops overseas. We will send these messages of appreciation in partnership with A Million Thanks. Pizza\, drinks and dessert will be provided! \nRSVP: https://letterstoourtroops.rsvpify.com/
URL:https://epocaresidents.com/event/letters-to-our-heroes/
LOCATION:Mason Clubhouse
CATEGORIES:special event
ATTACH;FMTTYPE=image/png:https://epocaresidents.com/wp-content/uploads/2024/11/Letters-to-Our-Heroes.png
END:VEVENT
END:VCALENDAR